Workbook

Sheet Velocity and Discharge
A1: NIWA Surface Velocimetry Discharge Calculator
A3: Options: | C3: Notes:
A4: Cross Section Water Level To Use | B4: New WL | C4: Type: "Original WL" or "New WL" | AA4: *Complexity in the formula arises from variable number of depth point between bin edges.
H5: Extra Calculations Needed For Area Bins | AA5: ** Much easier to to code in MATLAB (or other languages) where variable array sizes are easily handled. | AC5: Cross Section To Plot
A6: Cross Stream Distance To Surface Velocity (m) | B6: Surface Velocity (m/s) | C6: Alpha (default = 0.857) | D6: Area Bin (m^2) | E6: Discharge Bin (m^3/s) | F6: Notes: | H6: Centre Of Bin Left XS Point Y1 | I6: Centre Of Bin Right XS Point Y2 | J6: Centre Of Bin Left XS Point D1 | K6: Centre Of Bin Right XS Point D2 | L6: Depth at Centre Of Bin (m) | N6: Left Side Of Bin (m) | O6: Right Side Of Bin (m) | P6: Left Y1 | Q6: Left Y2 | R6: Left D1 | S6: Left D2 | T6: Depth at Left Side Of Bin (m) | U6: Right Y1 | V6: Right Y2 | W6: Right D1 | X6: Right D2 | Y6: Depth at Right Side Of Bin (m) | AA6: Nasty trapezoidal integration between left bin edge and right bin edge following cross section (m^2) | AC6: Cross Stream Distance (m) | AD6: Depth (m)
A7: TRUE LEFT BANK | B7: TRUE LEFT BANK | E7: TRUE LEFT BANK | AC7: =IF($B$4="Original WL",'Original Cross Section - 1st WL'!A7,'Updated Cross Section - New WL'!A8) -> TRUE LEFT BANK | AD7: =IF($B$4="Original WL",'Original Cross Section - 1st WL'!C7,'Updated Cross Section - New WL'!C8) -> TRUE LEFT BANK
A8: 0 | B8: 0 | C8: 0.857 | D8: =$AA8 -> 0.061875 | E8: =$B8*$C8*$D8 -> 0 | F8: First Measurement Is At Left Bank Reference Peg (y_PLB) | H8: =IF(A8<>0,_xlfn.XLOOKUP($A8,$AC$8:$AC$56,$AC$8:$AC$56,,-1,1),MIN($AC$8:$AC$56)) -> 0 | I8: =IF(A8<>0,_xlfn.XLOOKUP($A8,$AC$8:$AC$56,$AC$8:$AC$56,,1,1),MIN($AC$8:$AC$56)) -> 0 | J8: =_xlfn.XLOOKUP($A8,$AC$8:$AC$56,$AD$8:$AD$56,,-1,1) -> 0 | K8: =_xlfn.XLOOKUP($A8,$AC$8:$AC$56,$AD$8:$AD$56,,1,1) -> 0 | L8: =IF($H8=$I8,$J8,FORECAST($A8,$J8:$K8,$H8:$I8)) -> 0 | N8: =$AC$8 -> 0 | O8: =IF(A9<>0,(A8+A9)/2,MAX($AC$8:$AC$56)) -> 0.75 | P8: =_xlfn.XLOOKUP($N8,$AC$8:$AC$56,$AC$8:$AC$56,,-1,1) -> 0 | Q8: =_xlfn.XLOOKUP($N8,$AC$8:$AC$56,$AC$8:$AC$56,,1,1) -> 0 | R8: =_xlfn.XLOOKUP($N8,$AC$8:$AC$56,$AD$8:$AD$56,,-1,1) -> 0 | S8: =_xlfn.XLOOKUP($N8,$AC$8:$AC$56,$AD$8:$AD$56,,1,1) -> 0 | T8: =IF($P8=$Q8,$R8,FORECAST($N8,$R8:$S8,$P8:$Q8)) -> 0 | U8: =_xlfn.XLOOKUP($O8,$AC$8:$AC$56,$AC$8:$AC$56,,-1,1) -> 0 | V8: =_xlfn.XLOOKUP($O8,$AC$8:$AC$56,$AC$8:$AC$56,,1,1) -> 1 | W8: =_xlfn.XLOOKUP($O8,$AC$8:$AC$56,$AD$8:$AD$56,,-1,1) -> 0 | X8: =_xlfn.XLOOKUP($O8,$AC$8:$AC$56,$AD$8:$AD$56,,1,1) -> 0.22 | Y8: =IF($U8=$V8,$W8,FORECAST($O8,$W8:$X8,$U8:$V8)) -> 0.165 | AA8: {=IF(SUM(((($AC$8:$AC$56)>$N8)*1)*((($AC$8:$AC$56)<$O8)*1))>0,SUM((_xlfn.VSTACK((_xlfn._xlws.FILTER(((($AC$8:$AC$56)>$N8)*1)*((($AC$8:$AC$56)<$O8)*1)*($AC$8:$AC$56),((($AC$8:$AC$56)>$N8)*1)*((($AC$8:$AC$56)<$O8)*1)*($AC$8:$AC$56)>0)),$O8)-_xlfn.VSTACK($N8,(_xlfn._xlws.FILTER(((($AC$8:$AC$56)>$N8)*1)*((($AC$8:$AC$56)<$O8)*1)*($AC$8:$AC$56),((($AC$8:$AC$56)>$N8)*1)*((($AC$8:$AC$56)<$O8)*1)*($AC$8:$AC$56)>0))))*((_xlfn.VSTACK($T8,(_xlfn._xlws.FILTER(((($AC$8:$AC$56)>$N8)*1)*((($AC$8:$AC$56)<$O8)*1)*($AD$8:$AD$56),((($AC$8:$AC$56)>$N8)*1)*((($AC$8:$AC$56)<$O8)))))+_xlfn.VSTACK((_xlfn._xlws.FILTER(((($AC$8:$AC$56)>$N8)*1)*((($AC$8:$AC$56)<$O8)*1)*($AD$8:$AD$56),((($AC$8:$AC$56)>$N8)*1)*((($AC$8:$AC$56)<$O8)))),$Y8))/2)),($O8-$N8)*($T8+$Y8)/2)} -> 0.061875 | AC8: =IF($B$4="Original WL",'Original Cross Section - 1st WL'!A8,'Updated Cross Section - New WL'!A9) -> 0 | AD8: =IF($B$4="Original WL",'Original Cross Section - 1st WL'!C8,'Updated Cross Section - New WL'!C9) -> 0
A9: 1.5 | B9: 0.2 | C9: 0.857 | D9: =$AA9 -> 0.44331731 | E9: =$B9*$C9*$D9 -> 0.075984587 | H9: =IF(A9<>0,_xlfn.XLOOKUP($A9,$AC$8:$AC$56,$AC$8:$AC$56,,-1,1),MAX($AC$8:$AC$56)) -> 1 | I9: =IF(A9<>0,_xlfn.XLOOKUP($A9,$AC$8:$AC$56,$AC$8:$AC$56,,1,1),MAX($AC$8:$AC$56)) -> 2.3 | J9: =IF(A9<>0,_xlfn.XLOOKUP($A9,$AC$8:$AC$56,$AD$8:$AD$56,,-1,1),0) -> 0.22 | K9: =IF(A9<>0,_xlfn.XLOOKUP($A9,$AC$8:$AC$56,$AD$8:$AD$56,,1,1),0) -> 0.42 | L9: =IF($H9=$I9,$J9,FORECAST($A9,$J9:$K9,$H9:$I9)) -> 0.29692308 | N9: =IF(A9<>0,(A8+A9)/2,MAX($AC$8:$AC$56)) -> 0.75 | O9: =IF(A10<>0,(A9+A10)/2,MAX($AC$8:$AC$56)) -> 2.25 | P9: =_xlfn.XLOOKUP($N9,$AC$8:$AC$56,$AC$8:$AC$56,,-1,1) -> 0 | Q9: =_xlfn.XLOOKUP($N9,$AC$8:$AC$56,$AC$8:$AC$56,,1,1) -> 1 | R9: =_xlfn.XLOOKUP($N9,$AC$8:$AC$56,$AD$8:$AD$56,,-1,1) -> 0 | S9: =_xlfn.XLOOKUP($N9,$AC$8:$AC$56,$AD$8:$AD$56,,1,1) -> 0.22 | T9: =IF($P9=$Q9,$R9,FORECAST($N9,$R9:$S9,$P9:$Q9)) -> 0.165 | U9: =_xlfn.XLOOKUP($O9,$AC$8:$AC$56,$AC$8:$AC$56,,-1,1) -> 1 | V9: =_xlfn.XLOOKUP($O9,$AC$8:$AC$56,$AC$8:$AC$56,,1,1) -> 2.3 | W9: =_xlfn.XLOOKUP($O9,$AC$8:$AC$56,$AD$8:$AD$56,,-1,1) -> 0.22 | X9: =_xlfn.XLOOKUP($O9,$AC$8:$AC$56,$AD$8:$AD$56,,1,1) -> 0.42 | Y9: =IF($U9=$V9,$W9,FORECAST($O9,$W9:$X9,$U9:$V9)) -> 0.41230769 | AA9: {=IF(SUM(((($AC$8:$AC$56)>$N9)*1)*((($AC$8:$AC$56)<$O9)*1))>0,SUM((_xlfn.VSTACK((_xlfn._xlws.FILTER(((($AC$8:$AC$56)>$N9)*1)*((($AC$8:$AC$56)<$O9)*1)*($AC$8:$AC$56),((($AC$8:$AC$56)>$N9)*1)*((($AC$8:$AC$56)<$O9)*1)*($AC$8:$AC$56)>0)),$O9)-_xlfn.VSTACK($N9,(_xlfn._xlws.FILTER(((($AC$8:$AC$56)>$N9)*1)*((($AC$8:$AC$56)<$O9)*1)*($AC$8:$AC$56),((($AC$8:$AC$56)>$N9)*1)*((($AC$8:$AC$56)<$O9)*1)*($AC$8:$AC$56)>0))))*((_xlfn.VSTACK($T9,(_xlfn._xlws.FILTER(((($AC$8:$AC$56)>$N9)*1)*((($AC$8:$AC$56)<$O9)*1)*($AD$8:$AD$56),((($AC$8:$AC$56)>$N9)*1)*((($AC$8:$AC$56)<$O9)))))+_xlfn.VSTACK((_xlfn._xlws.FILTER(((($AC$8:$AC$56)>$N9)*1)*((($AC$8:$AC$56)<$O9)*1)*($AD$8:$AD$56),((($AC$8:$AC$56)>$N9)*1)*((($AC$8:$AC$56)<$O9)))),$Y9))/2)),($O9-$N9)*($T9+$Y9)/2)} -> 0.44331731 | AC9: =IF($B$4="Original WL",'Original Cross Section - 1st WL'!A9,'Updated Cross Section - New WL'!A10) -> 1 | AD9: =IF($B$4="Original WL",'Original Cross Section - 1st WL'!C9,'Updated Cross Section - New WL'!C10) -> 0.22
A10: 3 | B10: 0.5 | C10: 0.857 | D10: =$AA10 -> 0.95853462 | E10: =$B10*$C10*$D10 -> 0.41073208 | H10: =IF(A10<>0,_xlfn.XLOOKUP($A10,$AC$8:$AC$56,$AC$8:$AC$56,,-1,1),MAX($AC$8:$AC$56)) -> 2.3 | I10: =IF(A10<>0,_xlfn.XLOOKUP($A10,$AC$8:$AC$56,$AC$8:$AC$56,,1,1),MAX($AC$8:$AC$56)) -> 3.6 | J10: =IF(A10<>0,_xlfn.XLOOKUP($A10,$AC$8:$AC$56,$AD$8:$AD$56,,-1,1),0) -> 0.42 | K10: =IF(A10<>0,_xlfn.XLOOKUP($A10,$AC$8:$AC$56,$AD$8:$AD$56,,1,1),0) -> 0.83 | L10: =IF($H10=$I10,$J10,FORECAST($A10,$J10:$K10,$H10:$I10)) -> 0.64076923 | N10: =IF(A10<>0,(A9+A10)/2,MAX($AC$8:$AC$56)) -> 2.25 | O10: =IF(A11<>0,(A10+A11)/2,MAX($AC$8:$AC$56)) -> 3.75 | P10: =_xlfn.XLOOKUP($N10,$AC$8:$AC$56,$AC$8:$AC$56,,-1,1) -> 1 | Q10: =_xlfn.XLOOKUP($N10,$AC$8:$AC$56,$AC$8:$AC$56,,1,1) -> 2.3 | R10: =_xlfn.XLOOKUP($N10,$AC$8:$AC$56,$AD$8:$AD$56,,-1,1) -> 0.22 | S10: =_xlfn.XLOOKUP($N10,$AC$8:$AC$56,$AD$8:$AD$56,,1,1) -> 0.42 | T10: =IF($P10=$Q10,$R10,FORECAST($N10,$R10:$S10,$P10:$Q10)) -> 0.41230769 | U10: =_xlfn.XLOOKUP($O10,$AC$8:$AC$56,$AC$8:$AC$56,,-1,1) -> 3.6 | V10: =_xlfn.XLOOKUP($O10,$AC$8:$AC$56,$AC$8:$AC$56,,1,1) -> 4.9 | W10: =_xlfn.XLOOKUP($O10,$AC$8:$AC$56,$AD$8:$AD$56,,-1,1) -> 0.83 | X10: =_xlfn.XLOOKUP($O10,$AC$8:$AC$56,$AD$8:$AD$56,,1,1) -> 0.914 | Y10: =IF($U10=$V10,$W10,FORECAST($O10,$W10:$X10,$U10:$V10)) -> 0.83969231 | AA10: {=IF(SUM(((($AC$8:$AC$56)>$N10)*1)*((($AC$8:$AC$56)<$O10)*1))>0,SUM((_xlfn.VSTACK((_xlfn._xlws.FILTER(((($AC$8:$AC$56)>$N10)*1)*((($AC$8:$AC$56)<$O10)*1)*($AC$8:$AC$56),((($AC$8:$AC$56)>$N10)*1)*((($AC$8:$AC$56)<$O10)*1)*($AC$8:$AC$56)>0)),$O10)-_xlfn.VSTACK($N10,(_xlfn._xlws.FILTER(((($AC$8:$AC$56)>$N10)*1)*((($AC$8:$AC$56)<$O10)*1)*($AC$8:$AC$56),((($AC$8:$AC$56)>$N10)*1)*((($AC$8:$AC$56)<$O10)*1)*($AC$8:$AC$56)>0))))*((_xlfn.VSTACK($T10,(_xlfn._xlws.FILTER(((($AC$8:$AC$56)>$N10)*1)*((($AC$8:$AC$56)<$O10)*1)*($AD$8:$AD$56),((($AC$8:$AC$56)>$N10)*1)*((($AC$8:$AC$56)<$O10)))))+_xlfn.VSTACK((_xlfn._xlws.FILTER(((($AC$8:$AC$56)>$N10)*1)*((($AC$8:$AC$56)<$O10)*1)*($AD$8:$AD$56),((($AC$8:$AC$56)>$N10)*1)*((($AC$8:$AC$56)<$O10)))),$Y10))/2)),($O10-$N10)*($T10+$Y10)/2)} -> 0.95853462 | AC10: =IF($B$4="Original WL",'Original Cross Section - 1st WL'!A10,'Updated Cross Section - New WL'!A11) -> 2.3 | AD10: =IF($B$4="Original WL",'Original Cross Section - 1st WL'!C10,'Updated Cross Section - New WL'!C11) -> 0.42
A11: 4.5 | B11: 1.59 | C11: 0.857 | D11: =$AA11 -> 1.3339269 | E11: =$B11*$C11*$D11 -> 1.8176488 | H11: =IF(A11<>0,_xlfn.XLOOKUP($A11,$AC$8:$AC$56,$AC$8:$AC$56,,-1,1),MAX($AC$8:$AC$56)) -> 3.6 | I11: =IF(A11<>0,_xlfn.XLOOKUP($A11,$AC$8:$AC$56,$AC$8:$AC$56,,1,1),MAX($AC$8:$AC$56)) -> 4.9 | J11: =IF(A11<>0,_xlfn.XLOOKUP($A11,$AC$8:$AC$56,$AD$8:$AD$56,,-1,1),0) -> 0.83 | K11: =IF(A11<>0,_xlfn.XLOOKUP($A11,$AC$8:$AC$56,$AD$8:$AD$56,,1,1),0) -> 0.914 | L11: =IF($H11=$I11,$J11,FORECAST($A11,$J11:$K11,$H11:$I11)) -> 0.88815385 | N11: =IF(A11<>0,(A10+A11)/2,MAX($AC$8:$AC$56)) -> 3.75 | O11: =IF(A12<>0,(A11+A12)/2,MAX($AC$8:$AC$56)) -> 5.25 | P11: =_xlfn.XLOOKUP($N11,$AC$8:$AC$56,$AC$8:$AC$56,,-1,1) -> 3.6 | Q11: =_xlfn.XLOOKUP($N11,$AC$8:$AC$56,$AC$8:$AC$56,,1,1) -> 4.9 | R11: =_xlfn.XLOOKUP($N11,$AC$8:$AC$56,$AD$8:$AD$56,,-1,1) -> 0.83 | S11: =_xlfn.XLOOKUP($N11,$AC$8:$AC$56,$AD$8:$AD$56,,1,1) -> 0.914 | T11: =IF($P11=$Q11,$R11,FORECAST($N11,$R11:$S11,$P11:$Q11)) -> 0.83969231 | U11: =_xlfn.XLOOKUP($O11,$AC$8:$AC$56,$AC$8:$AC$56,,-1,1) -> 4.9 | V11: =_xlfn.XLOOKUP($O11,$AC$8:$AC$56,$AC$8:$AC$56,,1,1) -> 6.2 | W11: =_xlfn.XLOOKUP($O11,$AC$8:$AC$56,$AD$8:$AD$56,,-1,1) -> 0.914 | X11: =_xlfn.XLOOKUP($O11,$AC$8:$AC$56,$AD$8:$AD$56,,1,1) -> 1.034 | Y11: =IF($U11=$V11,$W11,FORECAST($O11,$W11:$X11,$U11:$V11)) -> 0.94630769 | AA11: {=IF(SUM(((($AC$8:$AC$56)>$N11)*1)*((($AC$8:$AC$56)<$O11)*1))>0,SUM((_xlfn.VSTACK((_xlfn._xlws.FILTER(((($AC$8:$AC$56)>$N11)*1)*((($AC$8:$AC$56)<$O11)*1)*($AC$8:$AC$56),((($AC$8:$AC$56)>$N11)*1)*((($AC$8:$AC$56)<$O11)*1)*($AC$8:$AC$56)>0)),$O11)-_xlfn.VSTACK($N11,(_xlfn._xlws.FILTER(((($AC$8:$AC$56)>$N11)*1)*((($AC$8:$AC$56)<$O11)*1)*($AC$8:$AC$56),((($AC$8:$AC$56)>$N11)*1)*((($AC$8:$AC$56)<$O11)*1)*($AC$8:$AC$56)>0))))*((_xlfn.VSTACK($T11,(_xlfn._xlws.FILTER(((($AC$8:$AC$56)>$N11)*1)*((($AC$8:$AC$56)<$O11)*1)*($AD$8:$AD$56),((($AC$8:$AC$56)>$N11)*1)*((($AC$8:$AC$56)<$O11)))))+_xlfn.VSTACK((_xlfn._xlws.FILTER(((($AC$8:$AC$56)>$N11)*1)*((($AC$8:$AC$56)<$O11)*1)*($AD$8:$AD$56),((($AC$8:$AC$56)>$N11)*1)*((($AC$8:$AC$56)<$O11)))),$Y11))/2)),($O11-$N11)*($T11+$Y11)/2)} -> 1.3339269 | AC11: =IF($B$4="Original WL",'Original Cross Section - 1st WL'!A11,'Updated Cross Section - New WL'!A12) -> 3.6 | AD11: =IF($B$4="Original WL",'Original Cross Section - 1st WL'!C11,'Updated Cross Section - New WL'!C12) -> 0.83
A12: 6 | B12: 1.73 | C12: 0.857 | D12: =$AA12 -> 1.5135346 | E12: =$B12*$C12*$D12 -> 2.2439816 | H12: =IF(A12<>0,_xlfn.XLOOKUP($A12,$AC$8:$AC$56,$AC$8:$AC$56,,-1,1),MAX($AC$8:$AC$56)) -> 4.9 | I12: =IF(A12<>0,_xlfn.XLOOKUP($A12,$AC$8:$AC$56,$AC$8:$AC$56,,1,1),MAX($AC$8:$AC$56)) -> 6.2 | J12: =IF(A12<>0,_xlfn.XLOOKUP($A12,$AC$8:$AC$56,$AD$8:$AD$56,,-1,1),0) -> 0.914 | K12: =IF(A12<>0,_xlfn.XLOOKUP($A12,$AC$8:$AC$56,$AD$8:$AD$56,,1,1),0) -> 1.034 | L12: =IF($H12=$I12,$J12,FORECAST($A12,$J12:$K12,$H12:$I12)) -> 1.0155385 | N12: =IF(A12<>0,(A11+A12)/2,MAX($AC$8:$AC$56)) -> 5.25 | O12: =IF(A13<>0,(A12+A13)/2,MAX($AC$8:$AC$56)) -> 6.75 | P12: =_xlfn.XLOOKUP($N12,$AC$8:$AC$56,$AC$8:$AC$56,,-1,1) -> 4.9 | Q12: =_xlfn.XLOOKUP($N12,$AC$8:$AC$56,$AC$8:$AC$56,,1,1) -> 6.2 | R12: =_xlfn.XLOOKUP($N12,$AC$8:$AC$56,$AD$8:$AD$56,,-1,1) -> 0.914 | S12: =_xlfn.XLOOKUP($N12,$AC$8:$AC$56,$AD$8:$AD$56,,1,1) -> 1.034 | T12: =IF($P12=$Q12,$R12,FORECAST($N12,$R12:$S12,$P12:$Q12)) -> 0.94630769 | U12: =_xlfn.XLOOKUP($O12,$AC$8:$AC$56,$AC$8:$AC$56,,-1,1) -> 6.2 | V12: =_xlfn.XLOOKUP($O12,$AC$8:$AC$56,$AC$8:$AC$56,,1,1) -> 7.5 | W12: =_xlfn.XLOOKUP($O12,$AC$8:$AC$56,$AD$8:$AD$56,,-1,1) -> 1.034 | X12: =_xlfn.XLOOKUP($O12,$AC$8:$AC$56,$AD$8:$AD$56,,1,1) -> 1.07 | Y12: =IF($U12=$V12,$W12,FORECAST($O12,$W12:$X12,$U12:$V12)) -> 1.0492308 | AA12: {=IF(SUM(((($AC$8:$AC$56)>$N12)*1)*((($AC$8:$AC$56)<$O12)*1))>0,SUM((_xlfn.VSTACK((_xlfn._xlws.FILTER(((($AC$8:$AC$56)>$N12)*1)*((($AC$8:$AC$56)<$O12)*1)*($AC$8:$AC$56),((($AC$8:$AC$56)>$N12)*1)*((($AC$8:$AC$56)<$O12)*1)*($AC$8:$AC$56)>0)),$O12)-_xlfn.VSTACK($N12,(_xlfn._xlws.FILTER(((($AC$8:$AC$56)>$N12)*1)*((($AC$8:$AC$56)<$O12)*1)*($AC$8:$AC$56),((($AC$8:$AC$56)>$N12)*1)*((($AC$8:$AC$56)<$O12)*1)*($AC$8:$AC$56)>0))))*((_xlfn.VSTACK($T12,(_xlfn._xlws.FILTER(((($AC$8:$AC$56)>$N12)*1)*((($AC$8:$AC$56)<$O12)*1)*($AD$8:$AD$56),((($AC$8:$AC$56)>$N12)*1)*((($AC$8:$AC$56)<$O12)))))+_xlfn.VSTACK((_xlfn._xlws.FILTER(((($AC$8:$AC$56)>$N12)*1)*((($AC$8:$AC$56)<$O12)*1)*($AD$8:$AD$56),((($AC$8:$AC$56)>$N12)*1)*((($AC$8:$AC$56)<$O12)))),$Y12))/2)),($O12-$N12)*($T12+$Y12)/2)} -> 1.5135346 | AC12: =IF($B$4="Original WL",'Original Cross Section - 1st WL'!A12,'Updated Cross Section - New WL'!A13) -> 4.9 | AD12: =IF($B$4="Original WL",'Original Cross Section - 1st WL'!C12,'Updated Cross Section - New WL'!C13) -> 0.914
A13: 7.5 | B13: 1.82 | C13: 0.857 | D13: =$AA13 -> 1.6197115 | E13: =$B13*$C13*$D13 -> 2.5263289 | H13: =IF(A13<>0,_xlfn.XLOOKUP($A13,$AC$8:$AC$56,$AC$8:$AC$56,,-1,1),MAX($AC$8:$AC$56)) -> 7.5 | I13: =IF(A13<>0,_xlfn.XLOOKUP($A13,$AC$8:$AC$56,$AC$8:$AC$56,,1,1),MAX($AC$8:$AC$56)) -> 7.5 | J13: =IF(A13<>0,_xlfn.XLOOKUP($A13,$AC$8:$AC$56,$AD$8:$AD$56,,-1,1),0) -> 1.07 | K13: =IF(A13<>0,_xlfn.XLOOKUP($A13,$AC$8:$AC$56,$AD$8:$AD$56,,1,1),0) -> 1.07 | L13: =IF($H13=$I13,$J13,FORECAST($A13,$J13:$K13,$H13:$I13)) -> 1.07 | N13: =IF(A13<>0,(A12+A13)/2,MAX($AC$8:$AC$56)) -> 6.75 | O13: =IF(A14<>0,(A13+A14)/2,MAX($AC$8:$AC$56)) -> 8.25 | P13: =_xlfn.XLOOKUP($N13,$AC$8:$AC$56,$AC$8:$AC$56,,-1,1) -> 6.2 | Q13: =_xlfn.XLOOKUP($N13,$AC$8:$AC$56,$AC$8:$AC$56,,1,1) -> 7.5 | R13: =_xlfn.XLOOKUP($N13,$AC$8:$AC$56,$AD$8:$AD$56,,-1,1) -> 1.034 | S13: =_xlfn.XLOOKUP($N13,$AC$8:$AC$56,$AD$8:$AD$56,,1,1) -> 1.07 | T13: =IF($P13=$Q13,$R13,FORECAST($N13,$R13:$S13,$P13:$Q13)) -> 1.0492308 | U13: =_xlfn.XLOOKUP($O13,$AC$8:$AC$56,$AC$8:$AC$56,,-1,1) -> 7.5 | V13: =_xlfn.XLOOKUP($O13,$AC$8:$AC$56,$AC$8:$AC$56,,1,1) -> 8.8 | W13: =_xlfn.XLOOKUP($O13,$AC$8:$AC$56,$AD$8:$AD$56,,-1,1) -> 1.07 | X13: =_xlfn.XLOOKUP($O13,$AC$8:$AC$56,$AD$8:$AD$56,,1,1) -> 1.174 | Y13: =IF($U13=$V13,$W13,FORECAST($O13,$W13:$X13,$U13:$V13)) -> 1.13 | AA13: {=IF(SUM(((($AC$8:$AC$56)>$N13)*1)*((($AC$8:$AC$56)<$O13)*1))>0,SUM((_xlfn.VSTACK((_xlfn._xlws.FILTER(((($AC$8:$AC$56)>$N13)*1)*((($AC$8:$AC$56)<$O13)*1)*($AC$8:$AC$56),((($AC$8:$AC$56)>$N13)*1)*((($AC$8:$AC$56)<$O13)*1)*($AC$8:$AC$56)>0)),$O13)-_xlfn.VSTACK($N13,(_xlfn._xlws.FILTER(((($AC$8:$AC$56)>$N13)*1)*((($AC$8:$AC$56)<$O13)*1)*($AC$8:$AC$56),((($AC$8:$AC$56)>$N13)*1)*((($AC$8:$AC$56)<$O13)*1)*($AC$8:$AC$56)>0))))*((_xlfn.VSTACK($T13,(_xlfn._xlws.FILTER(((($AC$8:$AC$56)>$N13)*1)*((($AC$8:$AC$56)<$O13)*1)*($AD$8:$AD$56),((($AC$8:$AC$56)>$N13)*1)*((($AC$8:$AC$56)<$O13)))))+_xlfn.VSTACK((_xlfn._xlws.FILTER(((($AC$8:$AC$56)>$N13)*1)*((($AC$8:$AC$56)<$O13)*1)*($AD$8:$AD$56),((($AC$8:$AC$56)>$N13)*1)*((($AC$8:$AC$56)<$O13)))),$Y13))/2)),($O13-$N13)*($T13+$Y13)/2)} -> 1.6197115 | AC13: =IF($B$4="Original WL",'Original Cross Section - 1st WL'!A13,'Updated Cross Section - New WL'!A14) -> 6.2 | AD13: =IF($B$4="Original WL",'Original Cross Section - 1st WL'!C13,'Updated Cross Section - New WL'!C14) -> 1.034
A14: 9 | B14: 2.04 | C14: 0.857 | D14: =$AA14 -> 1.752024 | E14: =$B14*$C14*$D14 -> 3.0630286 | H14: =IF(A14<>0,_xlfn.XLOOKUP($A14,$AC$8:$AC$56,$AC$8:$AC$56,,-1,1),MAX($AC$8:$AC$56)) -> 8.8 | I14: =IF(A14<>0,_xlfn.XLOOKUP($A14,$AC$8:$AC$56,$AC$8:$AC$56,,1,1),MAX($AC$8:$AC$56)) -> 10.1 | J14: =IF(A14<>0,_xlfn.XLOOKUP($A14,$AC$8:$AC$56,$AD$8:$AD$56,,-1,1),0) -> 1.174 | K14: =IF(A14<>0,_xlfn.XLOOKUP($A14,$AC$8:$AC$56,$AD$8:$AD$56,,1,1),0) -> 1.183 | L14: =IF($H14=$I14,$J14,FORECAST($A14,$J14:$K14,$H14:$I14)) -> 1.1753846 | N14: =IF(A14<>0,(A13+A14)/2,MAX($AC$8:$AC$56)) -> 8.25 | O14: =IF(A15<>0,(A14+A15)/2,MAX($AC$8:$AC$56)) -> 9.75 | P14: =_xlfn.XLOOKUP($N14,$AC$8:$AC$56,$AC$8:$AC$56,,-1,1) -> 7.5 | Q14: =_xlfn.XLOOKUP($N14,$AC$8:$AC$56,$AC$8:$AC$56,,1,1) -> 8.8 | R14: =_xlfn.XLOOKUP($N14,$AC$8:$AC$56,$AD$8:$AD$56,,-1,1) -> 1.07 | S14: =_xlfn.XLOOKUP($N14,$AC$8:$AC$56,$AD$8:$AD$56,,1,1) -> 1.174 | T14: =IF($P14=$Q14,$R14,FORECAST($N14,$R14:$S14,$P14:$Q14)) -> 1.13 | U14: =_xlfn.XLOOKUP($O14,$AC$8:$AC$56,$AC$8:$AC$56,,-1,1) -> 8.8 | V14: =_xlfn.XLOOKUP($O14,$AC$8:$AC$56,$AC$8:$AC$56,,1,1) -> 10.1 | W14: =_xlfn.XLOOKUP($O14,$AC$8:$AC$56,$AD$8:$AD$56,,-1,1) -> 1.174 | X14: =_xlfn.XLOOKUP($O14,$AC$8:$AC$56,$AD$8:$AD$56,,1,1) -> 1.183 | Y14: =IF($U14=$V14,$W14,FORECAST($O14,$W14:$X14,$U14:$V14)) -> 1.1805769 | AA14: {=IF(SUM(((($AC$8:$AC$56)>$N14)*1)*((($AC$8:$AC$56)<$O14)*1))>0,SUM((_xlfn.VSTACK((_xlfn._xlws.FILTER(((($AC$8:$AC$56)>$N14)*1)*((($AC$8:$AC$56)<$O14)*1)*($AC$8:$AC$56),((($AC$8:$AC$56)>$N14)*1)*((($AC$8:$AC$56)<$O14)*1)*($AC$8:$AC$56)>0)),$O14)-_xlfn.VSTACK($N14,(_xlfn._xlws.FILTER(((($AC$8:$AC$56)>$N14)*1)*((($AC$8:$AC$56)<$O14)*1)*($AC$8:$AC$56),((($AC$8:$AC$56)>$N14)*1)*((($AC$8:$AC$56)<$O14)*1)*($AC$8:$AC$56)>0))))*((_xlfn.VSTACK($T14,(_xlfn._xlws.FILTER(((($AC$8:$AC$56)>$N14)*1)*((($AC$8:$AC$56)<$O14)*1)*($AD$8:$AD$56),((($AC$8:$AC$56)>$N14)*1)*((($AC$8:$AC$56)<$O14)))))+_xlfn.VSTACK((_xlfn._xlws.FILTER(((($AC$8:$AC$56)>$N14)*1)*((($AC$8:$AC$56)<$O14)*1)*($AD$8:$AD$56),((($AC$8:$AC$56)>$N14)*1)*((($AC$8:$AC$56)<$O14)))),$Y14))/2)),($O14-$N14)*($T14+$Y14)/2)} -> 1.752024 | AC14: =IF($B$4="Original WL",'Original Cross Section - 1st WL'!A14,'Updated Cross Section - New WL'!A15) -> 7.5 | AD14: =IF($B$4="Original WL",'Original Cross Section - 1st WL'!C14,'Updated Cross Section - New WL'!C15) -> 1.07
A15: 10.5 | B15: 2.18 | C15: 0.857 | D15: =$AA15 -> 1.890049 | E15: =$B15*$C15*$D15 -> 3.531103 | H15: =IF(A15<>0,_xlfn.XLOOKUP($A15,$AC$8:$AC$56,$AC$8:$AC$56,,-1,1),MAX($AC$8:$AC$56)) -> 10.1 | I15: =IF(A15<>0,_xlfn.XLOOKUP($A15,$AC$8:$AC$56,$AC$8:$AC$56,,1,1),MAX($AC$8:$AC$56)) -> 11.4 | J15: =IF(A15<>0,_xlfn.XLOOKUP($A15,$AC$8:$AC$56,$AD$8:$AD$56,,-1,1),0) -> 1.183 | K15: =IF(A15<>0,_xlfn.XLOOKUP($A15,$AC$8:$AC$56,$AD$8:$AD$56,,1,1),0) -> 1.411 | L15: =IF($H15=$I15,$J15,FORECAST($A15,$J15:$K15,$H15:$I15)) -> 1.2531538 | N15: =IF(A15<>0,(A14+A15)/2,MAX($AC$8:$AC$56)) -> 9.75 | O15: =IF(A16<>0,(A15+A16)/2,MAX($AC$8:$AC$56)) -> 11.25 | P15: =_xlfn.XLOOKUP($N15,$AC$8:$AC$56,$AC$8:$AC$56,,-1,1) -> 8.8 | Q15: =_xlfn.XLOOKUP($N15,$AC$8:$AC$56,$AC$8:$AC$56,,1,1) -> 10.1 | R15: =_xlfn.XLOOKUP($N15,$AC$8:$AC$56,$AD$8:$AD$56,,-1,1) -> 1.174 | S15: =_xlfn.XLOOKUP($N15,$AC$8:$AC$56,$AD$8:$AD$56,,1,1) -> 1.183 | T15: =IF($P15=$Q15,$R15,FORECAST($N15,$R15:$S15,$P15:$Q15)) -> 1.1805769 | U15: =_xlfn.XLOOKUP($O15,$AC$8:$AC$56,$AC$8:$AC$56,,-1,1) -> 10.1 | V15: =_xlfn.XLOOKUP($O15,$AC$8:$AC$56,$AC$8:$AC$56,,1,1) -> 11.4 | W15: =_xlfn.XLOOKUP($O15,$AC$8:$AC$56,$AD$8:$AD$56,,-1,1) -> 1.183 | X15: =_xlfn.XLOOKUP($O15,$AC$8:$AC$56,$AD$8:$AD$56,,1,1) -> 1.411 | Y15: =IF($U15=$V15,$W15,FORECAST($O15,$W15:$X15,$U15:$V15)) -> 1.3846923 | AA15: {=IF(SUM(((($AC$8:$AC$56)>$N15)*1)*((($AC$8:$AC$56)<$O15)*1))>0,SUM((_xlfn.VSTACK((_xlfn._xlws.FILTER(((($AC$8:$AC$56)>$N15)*1)*((($AC$8:$AC$56)<$O15)*1)*($AC$8:$AC$56),((($AC$8:$AC$56)>$N15)*1)*((($AC$8:$AC$56)<$O15)*1)*($AC$8:$AC$56)>0)),$O15)-_xlfn.VSTACK($N15,(_xlfn._xlws.FILTER(((($AC$8:$AC$56)>$N15)*1)*((($AC$8:$AC$56)<$O15)*1)*($AC$8:$AC$56),((($AC$8:$AC$56)>$N15)*1)*((($AC$8:$AC$56)<$O15)*1)*($AC$8:$AC$56)>0))))*((_xlfn.VSTACK($T15,(_xlfn._xlws.FILTER(((($AC$8:$AC$56)>$N15)*1)*((($AC$8:$AC$56)<$O15)*1)*($AD$8:$AD$56),((($AC$8:$AC$56)>$N15)*1)*((($AC$8:$AC$56)<$O15)))))+_xlfn.VSTACK((_xlfn._xlws.FILTER(((($AC$8:$AC$56)>$N15)*1)*((($AC$8:$AC$56)<$O15)*1)*($AD$8:$AD$56),((($AC$8:$AC$56)>$N15)*1)*((($AC$8:$AC$56)<$O15)))),$Y15))/2)),($O15-$N15)*($T15+$Y15)/2)} -> 1.890049 | AC15: =IF($B$4="Original WL",'Original Cross Section - 1st WL'!A15,'Updated Cross Section - New WL'!A16) -> 8.8 | AD15: =IF($B$4="Original WL",'Original Cross Section - 1st WL'!C15,'Updated Cross Section - New WL'!C16) -> 1.174
A16: 12 | B16: 2.26 | C16: 0.857 | D16: =$AA16 -> 2.1733981 | E16: =$B16*$C16*$D16 -> 4.2094809 | H16: =IF(A16<>0,_xlfn.XLOOKUP($A16,$AC$8:$AC$56,$AC$8:$AC$56,,-1,1),MAX($AC$8:$AC$56)) -> 11.4 | I16: =IF(A16<>0,_xlfn.XLOOKUP($A16,$AC$8:$AC$56,$AC$8:$AC$56,,1,1),MAX($AC$8:$AC$56)) -> 12.7 | J16: =IF(A16<>0,_xlfn.XLOOKUP($A16,$AC$8:$AC$56,$AD$8:$AD$56,,-1,1),0) -> 1.411 | K16: =IF(A16<>0,_xlfn.XLOOKUP($A16,$AC$8:$AC$56,$AD$8:$AD$56,,1,1),0) -> 1.495 | L16: =IF($H16=$I16,$J16,FORECAST($A16,$J16:$K16,$H16:$I16)) -> 1.4497692 | N16: =IF(A16<>0,(A15+A16)/2,MAX($AC$8:$AC$56)) -> 11.25 | O16: =IF(A17<>0,(A16+A17)/2,MAX($AC$8:$AC$56)) -> 12.75 | P16: =_xlfn.XLOOKUP($N16,$AC$8:$AC$56,$AC$8:$AC$56,,-1,1) -> 10.1 | Q16: =_xlfn.XLOOKUP($N16,$AC$8:$AC$56,$AC$8:$AC$56,,1,1) -> 11.4 | R16: =_xlfn.XLOOKUP($N16,$AC$8:$AC$56,$AD$8:$AD$56,,-1,1) -> 1.183 | S16: =_xlfn.XLOOKUP($N16,$AC$8:$AC$56,$AD$8:$AD$56,,1,1) -> 1.411 | T16: =IF($P16=$Q16,$R16,FORECAST($N16,$R16:$S16,$P16:$Q16)) -> 1.3846923 | U16: =_xlfn.XLOOKUP($O16,$AC$8:$AC$56,$AC$8:$AC$56,,-1,1) -> 12.7 | V16: =_xlfn.XLOOKUP($O16,$AC$8:$AC$56,$AC$8:$AC$56,,1,1) -> 14 | W16: =_xlfn.XLOOKUP($O16,$AC$8:$AC$56,$AD$8:$AD$56,,-1,1) -> 1.495 | X16: =_xlfn.XLOOKUP($O16,$AC$8:$AC$56,$AD$8:$AD$56,,1,1) -> 1.569 | Y16: =IF($U16=$V16,$W16,FORECAST($O16,$W16:$X16,$U16:$V16)) -> 1.4978462 | AA16: {=IF(SUM(((($AC$8:$AC$56)>$N16)*1)*((($AC$8:$AC$56)<$O16)*1))>0,SUM((_xlfn.VSTACK((_xlfn._xlws.FILTER(((($AC$8:$AC$56)>$N16)*1)*((($AC$8:$AC$56)<$O16)*1)*($AC$8:$AC$56),((($AC$8:$AC$56)>$N16)*1)*((($AC$8:$AC$56)<$O16)*1)*($AC$8:$AC$56)>0)),$O16)-_xlfn.VSTACK($N16,(_xlfn._xlws.FILTER(((($AC$8:$AC$56)>$N16)*1)*((($AC$8:$AC$56)<$O16)*1)*($AC$8:$AC$56),((($AC$8:$AC$56)>$N16)*1)*((($AC$8:$AC$56)<$O16)*1)*($AC$8:$AC$56)>0))))*((_xlfn.VSTACK($T16,(_xlfn._xlws.FILTER(((($AC$8:$AC$56)>$N16)*1)*((($AC$8:$AC$56)<$O16)*1)*($AD$8:$AD$56),((($AC$8:$AC$56)>$N16)*1)*((($AC$8:$AC$56)<$O16)))))+_xlfn.VSTACK((_xlfn._xlws.FILTER(((($AC$8:$AC$56)>$N16)*1)*((($AC$8:$AC$56)<$O16)*1)*($AD$8:$AD$56),((($AC$8:$AC$56)>$N16)*1)*((($AC$8:$AC$56)<$O16)))),$Y16))/2)),($O16-$N16)*($T16+$Y16)/2)} -> 2.1733981 | AC16: =IF($B$4="Original WL",'Original Cross Section - 1st WL'!A16,'Updated Cross Section - New WL'!A17) -> 10.1 | AD16: =IF($B$4="Original WL",'Original Cross Section - 1st WL'!C16,'Updated Cross Section - New WL'!C17) -> 1.183
A17: 13.5 | B17: 2.42 | C17: 0.857 | D17: =$AA17 -> 2.311 | E17: =$B17*$C17*$D17 -> 4.7928753 | H17: =IF(A17<>0,_xlfn.XLOOKUP($A17,$AC$8:$AC$56,$AC$8:$AC$56,,-1,1),MAX($AC$8:$AC$56)) -> 12.7 | I17: =IF(A17<>0,_xlfn.XLOOKUP($A17,$AC$8:$AC$56,$AC$8:$AC$56,,1,1),MAX($AC$8:$AC$56)) -> 14 | J17: =IF(A17<>0,_xlfn.XLOOKUP($A17,$AC$8:$AC$56,$AD$8:$AD$56,,-1,1),0) -> 1.495 | K17: =IF(A17<>0,_xlfn.XLOOKUP($A17,$AC$8:$AC$56,$AD$8:$AD$56,,1,1),0) -> 1.569 | L17: =IF($H17=$I17,$J17,FORECAST($A17,$J17:$K17,$H17:$I17)) -> 1.5405385 | N17: =IF(A17<>0,(A16+A17)/2,MAX($AC$8:$AC$56)) -> 12.75 | O17: =IF(A18<>0,(A17+A18)/2,MAX($AC$8:$AC$56)) -> 14.25 | P17: =_xlfn.XLOOKUP($N17,$AC$8:$AC$56,$AC$8:$AC$56,,-1,1) -> 12.7 | Q17: =_xlfn.XLOOKUP($N17,$AC$8:$AC$56,$AC$8:$AC$56,,1,1) -> 14 | R17: =_xlfn.XLOOKUP($N17,$AC$8:$AC$56,$AD$8:$AD$56,,-1,1) -> 1.495 | S17: =_xlfn.XLOOKUP($N17,$AC$8:$AC$56,$AD$8:$AD$56,,1,1) -> 1.569 | T17: =IF($P17=$Q17,$R17,FORECAST($N17,$R17:$S17,$P17:$Q17)) -> 1.4978462 | U17: =_xlfn.XLOOKUP($O17,$AC$8:$AC$56,$AC$8:$AC$56,,-1,1) -> 14 | V17: =_xlfn.XLOOKUP($O17,$AC$8:$AC$56,$AC$8:$AC$56,,1,1) -> 15.3 | W17: =_xlfn.XLOOKUP($O17,$AC$8:$AC$56,$AD$8:$AD$56,,-1,1) -> 1.569 | X17: =_xlfn.XLOOKUP($O17,$AC$8:$AC$56,$AD$8:$AD$56,,1,1) -> 1.651 | Y17: =IF($U17=$V17,$W17,FORECAST($O17,$W17:$X17,$U17:$V17)) -> 1.5847692 | AA17: {=IF(SUM(((($AC$8:$AC$56)>$N17)*1)*((($AC$8:$AC$56)<$O17)*1))>0,SUM((_xlfn.VSTACK((_xlfn._xlws.FILTER(((($AC$8:$AC$56)>$N17)*1)*((($AC$8:$AC$56)<$O17)*1)*($AC$8:$AC$56),((($AC$8:$AC$56)>$N17)*1)*((($AC$8:$AC$56)<$O17)*1)*($AC$8:$AC$56)>0)),$O17)-_xlfn.VSTACK($N17,(_xlfn._xlws.FILTER(((($AC$8:$AC$56)>$N17)*1)*((($AC$8:$AC$56)<$O17)*1)*($AC$8:$AC$56),((($AC$8:$AC$56)>$N17)*1)*((($AC$8:$AC$56)<$O17)*1)*($AC$8:$AC$56)>0))))*((_xlfn.VSTACK($T17,(_xlfn._xlws.FILTER(((($AC$8:$AC$56)>$N17)*1)*((($AC$8:$AC$56)<$O17)*1)*($AD$8:$AD$56),((($AC$8:$AC$56)>$N17)*1)*((($AC$8:$AC$56)<$O17)))))+_xlfn.VSTACK((_xlfn._xlws.FILTER(((($AC$8:$AC$56)>$N17)*1)*((($AC$8:$AC$56)<$O17)*1)*($AD$8:$AD$56),((($AC$8:$AC$56)>$N17)*1)*((($AC$8:$AC$56)<$O17)))),$Y17))/2)),($O17-$N17)*($T17+$Y17)/2)} -> 2.311 | AC17: =IF($B$4="Original WL",'Original Cross Section - 1st WL'!A17,'Updated Cross Section - New WL'!A18) -> 11.4 | AD17: =IF($B$4="Original WL",'Original Cross Section - 1st WL'!C17,'Updated Cross Section - New WL'!C18) -> 1.411
A18: 15 | B18: 2.68 | C18: 0.857 | D18: =$AA18 -> 2.4459346 | E18: =$B18*$C18*$D18 -> 5.6177248 | H18: =IF(A18<>0,_xlfn.XLOOKUP($A18,$AC$8:$AC$56,$AC$8:$AC$56,,-1,1),MAX($AC$8:$AC$56)) -> 14 | I18: =IF(A18<>0,_xlfn.XLOOKUP($A18,$AC$8:$AC$56,$AC$8:$AC$56,,1,1),MAX($AC$8:$AC$56)) -> 15.3 | J18: =IF(A18<>0,_xlfn.XLOOKUP($A18,$AC$8:$AC$56,$AD$8:$AD$56,,-1,1),0) -> 1.569 | K18: =IF(A18<>0,_xlfn.XLOOKUP($A18,$AC$8:$AC$56,$AD$8:$AD$56,,1,1),0) -> 1.651 | L18: =IF($H18=$I18,$J18,FORECAST($A18,$J18:$K18,$H18:$I18)) -> 1.6320769 | N18: =IF(A18<>0,(A17+A18)/2,MAX($AC$8:$AC$56)) -> 14.25 | O18: =IF(A19<>0,(A18+A19)/2,MAX($AC$8:$AC$56)) -> 15.75 | P18: =_xlfn.XLOOKUP($N18,$AC$8:$AC$56,$AC$8:$AC$56,,-1,1) -> 14 | Q18: =_xlfn.XLOOKUP($N18,$AC$8:$AC$56,$AC$8:$AC$56,,1,1) -> 15.3 | R18: =_xlfn.XLOOKUP($N18,$AC$8:$AC$56,$AD$8:$AD$56,,-1,1) -> 1.569 | S18: =_xlfn.XLOOKUP($N18,$AC$8:$AC$56,$AD$8:$AD$56,,1,1) -> 1.651 | T18: =IF($P18=$Q18,$R18,FORECAST($N18,$R18:$S18,$P18:$Q18)) -> 1.5847692 | U18: =_xlfn.XLOOKUP($O18,$AC$8:$AC$56,$AC$8:$AC$56,,-1,1) -> 15.3 | V18: =_xlfn.XLOOKUP($O18,$AC$8:$AC$56,$AC$8:$AC$56,,1,1) -> 16.6 | W18: =_xlfn.XLOOKUP($O18,$AC$8:$AC$56,$AD$8:$AD$56,,-1,1) -> 1.651 | X18: =_xlfn.XLOOKUP($O18,$AC$8:$AC$56,$AD$8:$AD$56,,1,1) -> 1.705 | Y18: =IF($U18=$V18,$W18,FORECAST($O18,$W18:$X18,$U18:$V18)) -> 1.6696923 | AA18: {=IF(SUM(((($AC$8:$AC$56)>$N18)*1)*((($AC$8:$AC$56)<$O18)*1))>0,SUM((_xlfn.VSTACK((_xlfn._xlws.FILTER(((($AC$8:$AC$56)>$N18)*1)*((($AC$8:$AC$56)<$O18)*1)*($AC$8:$AC$56),((($AC$8:$AC$56)>$N18)*1)*((($AC$8:$AC$56)<$O18)*1)*($AC$8:$AC$56)>0)),$O18)-_xlfn.VSTACK($N18,(_xlfn._xlws.FILTER(((($AC$8:$AC$56)>$N18)*1)*((($AC$8:$AC$56)<$O18)*1)*($AC$8:$AC$56),((($AC$8:$AC$56)>$N18)*1)*((($AC$8:$AC$56)<$O18)*1)*($AC$8:$AC$56)>0))))*((_xlfn.VSTACK($T18,(_xlfn._xlws.FILTER(((($AC$8:$AC$56)>$N18)*1)*((($AC$8:$AC$56)<$O18)*1)*($AD$8:$AD$56),((($AC$8:$AC$56)>$N18)*1)*((($AC$8:$AC$56)<$O18)))))+_xlfn.VSTACK((_xlfn._xlws.FILTER(((($AC$8:$AC$56)>$N18)*1)*((($AC$8:$AC$56)<$O18)*1)*($AD$8:$AD$56),((($AC$8:$AC$56)>$N18)*1)*((($AC$8:$AC$56)<$O18)))),$Y18))/2)),($O18-$N18)*($T18+$Y18)/2)} -> 2.4459346 | AC18: =IF($B$4="Original WL",'Original Cross Section - 1st WL'!A18,'Updated Cross Section - New WL'!A19) -> 12.7 | AD18: =IF($B$4="Original WL",'Original Cross Section - 1st WL'!C18,'Updated Cross Section - New WL'!C19) -> 1.495
A19: 16.5 | B19: 2.71 | C19: 0.857 | D19: =$AA19 -> 2.5398942 | E19: =$B19*$C19*$D19 -> 5.8988282 | H19: =IF(A19<>0,_xlfn.XLOOKUP($A19,$AC$8:$AC$56,$AC$8:$AC$56,,-1,1),MAX($AC$8:$AC$56)) -> 15.3 | I19: =IF(A19<>0,_xlfn.XLOOKUP($A19,$AC$8:$AC$56,$AC$8:$AC$56,,1,1),MAX($AC$8:$AC$56)) -> 16.6 | J19: =IF(A19<>0,_xlfn.XLOOKUP($A19,$AC$8:$AC$56,$AD$8:$AD$56,,-1,1),0) -> 1.651 | K19: =IF(A19<>0,_xlfn.XLOOKUP($A19,$AC$8:$AC$56,$AD$8:$AD$56,,1,1),0) -> 1.705 | L19: =IF($H19=$I19,$J19,FORECAST($A19,$J19:$K19,$H19:$I19)) -> 1.7008462 | N19: =IF(A19<>0,(A18+A19)/2,MAX($AC$8:$AC$56)) -> 15.75 | O19: =IF(A20<>0,(A19+A20)/2,MAX($AC$8:$AC$56)) -> 17.25 | P19: =_xlfn.XLOOKUP($N19,$AC$8:$AC$56,$AC$8:$AC$56,,-1,1) -> 15.3 | Q19: =_xlfn.XLOOKUP($N19,$AC$8:$AC$56,$AC$8:$AC$56,,1,1) -> 16.6 | R19: =_xlfn.XLOOKUP($N19,$AC$8:$AC$56,$AD$8:$AD$56,,-1,1) -> 1.651 | S19: =_xlfn.XLOOKUP($N19,$AC$8:$AC$56,$AD$8:$AD$56,,1,1) -> 1.705 | T19: =IF($P19=$Q19,$R19,FORECAST($N19,$R19:$S19,$P19:$Q19)) -> 1.6696923 | U19: =_xlfn.XLOOKUP($O19,$AC$8:$AC$56,$AC$8:$AC$56,,-1,1) -> 16.6 | V19: =_xlfn.XLOOKUP($O19,$AC$8:$AC$56,$AC$8:$AC$56,,1,1) -> 17.9 | W19: =_xlfn.XLOOKUP($O19,$AC$8:$AC$56,$AD$8:$AD$56,,-1,1) -> 1.705 | X19: =_xlfn.XLOOKUP($O19,$AC$8:$AC$56,$AD$8:$AD$56,,1,1) -> 1.689 | Y19: =IF($U19=$V19,$W19,FORECAST($O19,$W19:$X19,$U19:$V19)) -> 1.697 | AA19: {=IF(SUM(((($AC$8:$AC$56)>$N19)*1)*((($AC$8:$AC$56)<$O19)*1))>0,SUM((_xlfn.VSTACK((_xlfn._xlws.FILTER(((($AC$8:$AC$56)>$N19)*1)*((($AC$8:$AC$56)<$O19)*1)*($AC$8:$AC$56),((($AC$8:$AC$56)>$N19)*1)*((($AC$8:$AC$56)<$O19)*1)*($AC$8:$AC$56)>0)),$O19)-_xlfn.VSTACK($N19,(_xlfn._xlws.FILTER(((($AC$8:$AC$56)>$N19)*1)*((($AC$8:$AC$56)<$O19)*1)*($AC$8:$AC$56),((($AC$8:$AC$56)>$N19)*1)*((($AC$8:$AC$56)<$O19)*1)*($AC$8:$AC$56)>0))))*((_xlfn.VSTACK($T19,(_xlfn._xlws.FILTER(((($AC$8:$AC$56)>$N19)*1)*((($AC$8:$AC$56)<$O19)*1)*($AD$8:$AD$56),((($AC$8:$AC$56)>$N19)*1)*((($AC$8:$AC$56)<$O19)))))+_xlfn.VSTACK((_xlfn._xlws.FILTER(((($AC$8:$AC$56)>$N19)*1)*((($AC$8:$AC$56)<$O19)*1)*($AD$8:$AD$56),((($AC$8:$AC$56)>$N19)*1)*((($AC$8:$AC$56)<$O19)))),$Y19))/2)),($O19-$N19)*($T19+$Y19)/2)} -> 2.5398942 | AC19: =IF($B$4="Original WL",'Original Cross Section - 1st WL'!A19,'Updated Cross Section - New WL'!A20) -> 14 | AD19: =IF($B$4="Original WL",'Original Cross Section - 1st WL'!C19,'Updated Cross Section - New WL'!C20) -> 1.569
A20: 18 | B20: 2.82 | C20: 0.857 | D20: =$AA20 -> 2.5183154 | E20: =$B20*$C20*$D20 -> 6.0861135 | H20: =IF(A20<>0,_xlfn.XLOOKUP($A20,$AC$8:$AC$56,$AC$8:$AC$56,,-1,1),MAX($AC$8:$AC$56)) -> 17.9 | I20: =IF(A20<>0,_xlfn.XLOOKUP($A20,$AC$8:$AC$56,$AC$8:$AC$56,,1,1),MAX($AC$8:$AC$56)) -> 19.2 | J20: =IF(A20<>0,_xlfn.XLOOKUP($A20,$AC$8:$AC$56,$AD$8:$AD$56,,-1,1),0) -> 1.689 | K20: =IF(A20<>0,_xlfn.XLOOKUP($A20,$AC$8:$AC$56,$AD$8:$AD$56,,1,1),0) -> 1.625 | L20: =IF($H20=$I20,$J20,FORECAST($A20,$J20:$K20,$H20:$I20)) -> 1.6840769 | N20: =IF(A20<>0,(A19+A20)/2,MAX($AC$8:$AC$56)) -> 17.25 | O20: =IF(A21<>0,(A20+A21)/2,MAX($AC$8:$AC$56)) -> 18.75 | P20: =_xlfn.XLOOKUP($N20,$AC$8:$AC$56,$AC$8:$AC$56,,-1,1) -> 16.6 | Q20: =_xlfn.XLOOKUP($N20,$AC$8:$AC$56,$AC$8:$AC$56,,1,1) -> 17.9 | R20: =_xlfn.XLOOKUP($N20,$AC$8:$AC$56,$AD$8:$AD$56,,-1,1) -> 1.705 | S20: =_xlfn.XLOOKUP($N20,$AC$8:$AC$56,$AD$8:$AD$56,,1,1) -> 1.689 | T20: =IF($P20=$Q20,$R20,FORECAST($N20,$R20:$S20,$P20:$Q20)) -> 1.697 | U20: =_xlfn.XLOOKUP($O20,$AC$8:$AC$56,$AC$8:$AC$56,,-1,1) -> 17.9 | V20: =_xlfn.XLOOKUP($O20,$AC$8:$AC$56,$AC$8:$AC$56,,1,1) -> 19.2 | W20: =_xlfn.XLOOKUP($O20,$AC$8:$AC$56,$AD$8:$AD$56,,-1,1) -> 1.689 | X20: =_xlfn.XLOOKUP($O20,$AC$8:$AC$56,$AD$8:$AD$56,,1,1) -> 1.625 | Y20: =IF($U20=$V20,$W20,FORECAST($O20,$W20:$X20,$U20:$V20)) -> 1.6471538 | AA20: {=IF(SUM(((($AC$8:$AC$56)>$N20)*1)*((($AC$8:$AC$56)<$O20)*1))>0,SUM((_xlfn.VSTACK((_xlfn._xlws.FILTER(((($AC$8:$AC$56)>$N20)*1)*((($AC$8:$AC$56)<$O20)*1)*($AC$8:$AC$56),((($AC$8:$AC$56)>$N20)*1)*((($AC$8:$AC$56)<$O20)*1)*($AC$8:$AC$56)>0)),$O20)-_xlfn.VSTACK($N20,(_xlfn._xlws.FILTER(((($AC$8:$AC$56)>$N20)*1)*((($AC$8:$AC$56)<$O20)*1)*($AC$8:$AC$56),((($AC$8:$AC$56)>$N20)*1)*((($AC$8:$AC$56)<$O20)*1)*($AC$8:$AC$56)>0))))*((_xlfn.VSTACK($T20,(_xlfn._xlws.FILTER(((($AC$8:$AC$56)>$N20)*1)*((($AC$8:$AC$56)<$O20)*1)*($AD$8:$AD$56),((($AC$8:$AC$56)>$N20)*1)*((($AC$8:$AC$56)<$O20)))))+_xlfn.VSTACK((_xlfn._xlws.FILTER(((($AC$8:$AC$56)>$N20)*1)*((($AC$8:$AC$56)<$O20)*1)*($AD$8:$AD$56),((($AC$8:$AC$56)>$N20)*1)*((($AC$8:$AC$56)<$O20)))),$Y20))/2)),($O20-$N20)*($T20+$Y20)/2)} -> 2.5183154 | AC20: =IF($B$4="Original WL",'Original Cross Section - 1st WL'!A20,'Updated Cross Section - New WL'!A21) -> 15.3 | AD20: =IF($B$4="Original WL",'Original Cross Section - 1st WL'!C20,'Updated Cross Section - New WL'!C21) -> 1.651
... A31: 34 | B31: 0.3 | C31: 0.857 | D31: =$AA31 -> 0.21 | E31: =$B31*$C31*$D31 -> 0.053991 | H31: =IF(A31<>0,_xlfn.XLOOKUP($A31,$AC$8:$AC$56,$AC$8:$AC$56,,-1,1),MAX($AC$8:$AC$56)) -> 33.5 | I31: =IF(A31<>0,_xlfn.XLOOKUP($A31,$AC$8:$AC$56,$AC$8:$AC$56,,1,1),MAX($AC$8:$AC$56)) -> 34.5 | J31: =IF(A31<>0,_xlfn.XLOOKUP($A31,$AC$8:$AC$56,$AD$8:$AD$56,,-1,1),0) -> 0.42 | K31: =IF(A31<>0,_xlfn.XLOOKUP($A31,$AC$8:$AC$56,$AD$8:$AD$56,,1,1),0) -> 0 | L31: =IF($H31=$I31,$J31,FORECAST($A31,$J31:$K31,$H31:$I31)) -> 0.21 | N31: =IF(A31<>0,(A30+A31)/2,MAX($AC$8:$AC$56)) -> 33.5 | O31: =IF(A32<>0,(A31+A32)/2,MAX($AC$8:$AC$56)) -> 34.75 | P31: =_xlfn.XLOOKUP($N31,$AC$8:$AC$56,$AC$8:$AC$56,,-1,1) -> 33.5 | Q31: =_xlfn.XLOOKUP($N31,$AC$8:$AC$56,$AC$8:$AC$56,,1,1) -> 33.5 | R31: =_xlfn.XLOOKUP($N31,$AC$8:$AC$56,$AD$8:$AD$56,,-1,1) -> 0.42 | S31: =_xlfn.XLOOKUP($N31,$AC$8:$AC$56,$AD$8:$AD$56,,1,1) -> 0.42 | T31: =IF($P31=$Q31,$R31,FORECAST($N31,$R31:$S31,$P31:$Q31)) -> 0.42 | U31: =_xlfn.XLOOKUP($O31,$AC$8:$AC$56,$AC$8:$AC$56,,-1,1) -> 34.5 | V31: =_xlfn.XLOOKUP($O31,$AC$8:$AC$56,$AC$8:$AC$56,,1,1) -> 35.5 | W31: =_xlfn.XLOOKUP($O31,$AC$8:$AC$56,$AD$8:$AD$56,,-1,1) -> 0 | X31: =_xlfn.XLOOKUP($O31,$AC$8:$AC$56,$AD$8:$AD$56,,1,1) -> 0 | Y31: =IF($U31=$V31,$W31,FORECAST($O31,$W31:$X31,$U31:$V31)) -> 0 | AA31: {=IF(SUM(((($AC$8:$AC$56)>$N31)*1)*((($AC$8:$AC$56)<$O31)*1))>0,SUM((_xlfn.VSTACK((_xlfn._xlws.FILTER(((($AC$8:$AC$56)>$N31)*1)*((($AC$8:$AC$56)<$O31)*1)*($AC$8:$AC$56),((($AC$8:$AC$56)>$N31)*1)*((($AC$8:$AC$56)<$O31)*1)*($AC$8:$AC$56)>0)),$O31)-_xlfn.VSTACK($N31,(_xlfn._xlws.FILTER(((($AC$8:$AC$56)>$N31)*1)*((($AC$8:$AC$56)<$O31)*1)*($AC$8:$AC$56),((($AC$8:$AC$56)>$N31)*1)*((($AC$8:$AC$56)<$O31)*1)*($AC$8:$AC$56)>0))))*((_xlfn.VSTACK($T31,(_xlfn._xlws.FILTER(((($AC$8:$AC$56)>$N31)*1)*((($AC$8:$AC$56)<$O31)*1)*($AD$8:$AD$56),((($AC$8:$AC$56)>$N31)*1)*((($AC$8:$AC$56)<$O31)))))+_xlfn.VSTACK((_xlfn._xlws.FILTER(((($AC$8:$AC$56)>$N31)*1)*((($AC$8:$AC$56)<$O31)*1)*($AD$8:$AD$56),((($AC$8:$AC$56)>$N31)*1)*((($AC$8:$AC$56)<$O31)))),$Y31))/2)),($O31-$N31)*($T31+$Y31)/2)} -> 0.21 | AC31: =IF($B$4="Original WL",'Original Cross Section - 1st WL'!A31,'Updated Cross Section - New WL'!A32) -> 29.6 | AD31: =IF($B$4="Original WL",'Original Cross Section - 1st WL'!C31,'Updated Cross Section - New WL'!C32) -> 1.291
A32: 35.5 | B32: 0 | C32: 0.857 | D32: =$AA32 -> 0 | E32: =$B32*$C32*$D32 -> 0 | F32: Last Measurement Is At Right Bank Reference Peg (y_PRB) | H32: =IF(A32<>0,_xlfn.XLOOKUP($A32,$AC$8:$AC$56,$AC$8:$AC$56,,-1,1),MAX($AC$8:$AC$56)) -> 35.5 | I32: =IF(A32<>0,_xlfn.XLOOKUP($A32,$AC$8:$AC$56,$AC$8:$AC$56,,1,1),MAX($AC$8:$AC$56)) -> 35.5 | J32: =IF(A32<>0,_xlfn.XLOOKUP($A32,$AC$8:$AC$56,$AD$8:$AD$56,,-1,1),0) -> 0 | K32: =IF(A32<>0,_xlfn.XLOOKUP($A32,$AC$8:$AC$56,$AD$8:$AD$56,,1,1),0) -> 0 | L32: =IF($H32=$I32,$J32,FORECAST($A32,$J32:$K32,$H32:$I32)) -> 0 | N32: =IF(A32<>0,(A31+A32)/2,MAX($AC$8:$AC$56)) -> 34.75 | O32: =IF(A33<>0,(A32+A33)/2,MAX($AC$8:$AC$56)) -> 35.5 | P32: =_xlfn.XLOOKUP($N32,$AC$8:$AC$56,$AC$8:$AC$56,,-1,1) -> 34.5 | Q32: =_xlfn.XLOOKUP($N32,$AC$8:$AC$56,$AC$8:$AC$56,,1,1) -> 35.5 | R32: =_xlfn.XLOOKUP($N32,$AC$8:$AC$56,$AD$8:$AD$56,,-1,1) -> 0 | S32: =_xlfn.XLOOKUP($N32,$AC$8:$AC$56,$AD$8:$AD$56,,1,1) -> 0 | T32: =IF($P32=$Q32,$R32,FORECAST($N32,$R32:$S32,$P32:$Q32)) -> 0 | U32: =_xlfn.XLOOKUP($O32,$AC$8:$AC$56,$AC$8:$AC$56,,-1,1) -> 35.5 | V32: =_xlfn.XLOOKUP($O32,$AC$8:$AC$56,$AC$8:$AC$56,,1,1) -> 35.5 | W32: =_xlfn.XLOOKUP($O32,$AC$8:$AC$56,$AD$8:$AD$56,,-1,1) -> 0 | X32: =_xlfn.XLOOKUP($O32,$AC$8:$AC$56,$AD$8:$AD$56,,1,1) -> 0 | Y32: =IF($U32=$V32,$W32,FORECAST($O32,$W32:$X32,$U32:$V32)) -> 0 | AA32: {=IF(SUM(((($AC$8:$AC$56)>$N32)*1)*((($AC$8:$AC$56)<$O32)*1))>0,SUM((_xlfn.VSTACK((_xlfn._xlws.FILTER(((($AC$8:$AC$56)>$N32)*1)*((($AC$8:$AC$56)<$O32)*1)*($AC$8:$AC$56),((($AC$8:$AC$56)>$N32)*1)*((($AC$8:$AC$56)<$O32)*1)*($AC$8:$AC$56)>0)),$O32)-_xlfn.VSTACK($N32,(_xlfn._xlws.FILTER(((($AC$8:$AC$56)>$N32)*1)*((($AC$8:$AC$56)<$O32)*1)*($AC$8:$AC$56),((($AC$8:$AC$56)>$N32)*1)*((($AC$8:$AC$56)<$O32)*1)*($AC$8:$AC$56)>0))))*((_xlfn.VSTACK($T32,(_xlfn._xlws.FILTER(((($AC$8:$AC$56)>$N32)*1)*((($AC$8:$AC$56)<$O32)*1)*($AD$8:$AD$56),((($AC$8:$AC$56)>$N32)*1)*((($AC$8:$AC$56)<$O32)))))+_xlfn.VSTACK((_xlfn._xlws.FILTER(((($AC$8:$AC$56)>$N32)*1)*((($AC$8:$AC$56)<$O32)*1)*($AD$8:$AD$56),((($AC$8:$AC$56)>$N32)*1)*((($AC$8:$AC$56)<$O32)))),$Y32))/2)),($O32-$N32)*($T32+$Y32)/2)} -> 0 | AC32: =IF($B$4="Original WL",'Original Cross Section - 1st WL'!A32,'Updated Cross Section - New WL'!A33) -> 30.9 | AD32: =IF($B$4="Original WL",'Original Cross Section - 1st WL'!C32,'Updated Cross Section - New WL'!C33) -> 1.369
D33: =$AA33 -> 0 | E33: =$B33*$C33*$D33 -> 0 | H33: =IF(A33<>0,_xlfn.XLOOKUP($A33,$AC$8:$AC$56,$AC$8:$AC$56,,-1,1),MAX($AC$8:$AC$56)) -> 35.5 | I33: =IF(A33<>0,_xlfn.XLOOKUP($A33,$AC$8:$AC$56,$AC$8:$AC$56,,1,1),MAX($AC$8:$AC$56)) -> 35.5 | J33: =IF(A33<>0,_xlfn.XLOOKUP($A33,$AC$8:$AC$56,$AD$8:$AD$56,,-1,1),0) -> 0 | K33: =IF(A33<>0,_xlfn.XLOOKUP($A33,$AC$8:$AC$56,$AD$8:$AD$56,,1,1),0) -> 0 | L33: =IF($H33=$I33,$J33,FORECAST($A33,$J33:$K33,$H33:$I33)) -> 0 | N33: =IF(A33<>0,(A32+A33)/2,MAX($AC$8:$AC$56)) -> 35.5 | O33: =IF(A34<>0,(A33+A34)/2,MAX($AC$8:$AC$56)) -> 35.5 | P33: =_xlfn.XLOOKUP($N33,$AC$8:$AC$56,$AC$8:$AC$56,,-1,1) -> 35.5 | Q33: =_xlfn.XLOOKUP($N33,$AC$8:$AC$56,$AC$8:$AC$56,,1,1) -> 35.5 | R33: =_xlfn.XLOOKUP($N33,$AC$8:$AC$56,$AD$8:$AD$56,,-1,1) -> 0 | S33: =_xlfn.XLOOKUP($N33,$AC$8:$AC$56,$AD$8:$AD$56,,1,1) -> 0 | T33: =IF($P33=$Q33,$R33,FORECAST($N33,$R33:$S33,$P33:$Q33)) -> 0 | U33: =_xlfn.XLOOKUP($O33,$AC$8:$AC$56,$AC$8:$AC$56,,-1,1) -> 35.5 | V33: =_xlfn.XLOOKUP($O33,$AC$8:$AC$56,$AC$8:$AC$56,,1,1) -> 35.5 | W33: =_xlfn.XLOOKUP($O33,$AC$8:$AC$56,$AD$8:$AD$56,,-1,1) -> 0 | X33: =_xlfn.XLOOKUP($O33,$AC$8:$AC$56,$AD$8:$AD$56,,1,1) -> 0 | Y33: =IF($U33=$V33,$W33,FORECAST($O33,$W33:$X33,$U33:$V33)) -> 0 | AA33: {=IF(SUM(((($AC$8:$AC$56)>$N33)*1)*((($AC$8:$AC$56)<$O33)*1))>0,SUM((_xlfn.VSTACK((_xlfn._xlws.FILTER(((($AC$8:$AC$56)>$N33)*1)*((($AC$8:$AC$56)<$O33)*1)*($AC$8:$AC$56),((($AC$8:$AC$56)>$N33)*1)*((($AC$8:$AC$56)<$O33)*1)*($AC$8:$AC$56)>0)),$O33)-_xlfn.VSTACK($N33,(_xlfn._xlws.FILTER(((($AC$8:$AC$56)>$N33)*1)*((($AC$8:$AC$56)<$O33)*1)*($AC$8:$AC$56),((($AC$8:$AC$56)>$N33)*1)*((($AC$8:$AC$56)<$O33)*1)*($AC$8:$AC$56)>0))))*((_xlfn.VSTACK($T33,(_xlfn._xlws.FILTER(((($AC$8:$AC$56)>$N33)*1)*((($AC$8:$AC$56)<$O33)*1)*($AD$8:$AD$56),((($AC$8:$AC$56)>$N33)*1)*((($AC$8:$AC$56)<$O33)))))+_xlfn.VSTACK((_xlfn._xlws.FILTER(((($AC$8:$AC$56)>$N33)*1)*((($AC$8:$AC$56)<$O33)*1)*($AD$8:$AD$56),((($AC$8:$AC$56)>$N33)*1)*((($AC$8:$AC$56)<$O33)))),$Y33))/2)),($O33-$N33)*($T33+$Y33)/2)} -> 0 | AC33: =IF($B$4="Original WL",'Original Cross Section - 1st WL'!A33,'Updated Cross Section - New WL'!A34) -> 32.2 | AD33: =IF($B$4="Original WL",'Original Cross Section - 1st WL'!C33,'Updated Cross Section - New WL'!C34) -> 1.276
D34: =$AA34 -> 0 | E34: =$B34*$C34*$D34 -> 0 | H34: =IF(A34<>0,_xlfn.XLOOKUP($A34,$AC$8:$AC$56,$AC$8:$AC$56,,-1,1),MAX($AC$8:$AC$56)) -> 35.5 | I34: =IF(A34<>0,_xlfn.XLOOKUP($A34,$AC$8:$AC$56,$AC$8:$AC$56,,1,1),MAX($AC$8:$AC$56)) -> 35.5 | J34: =IF(A34<>0,_xlfn.XLOOKUP($A34,$AC$8:$AC$56,$AD$8:$AD$56,,-1,1),0) -> 0 | K34: =IF(A34<>0,_xlfn.XLOOKUP($A34,$AC$8:$AC$56,$AD$8:$AD$56,,1,1),0) -> 0 | L34: =IF($H34=$I34,$J34,FORECAST($A34,$J34:$K34,$H34:$I34)) -> 0 | N34: =IF(A34<>0,(A33+A34)/2,MAX($AC$8:$AC$56)) -> 35.5 | O34: =IF(A35<>0,(A34+A35)/2,MAX($AC$8:$AC$56)) -> 35.5 | P34: =_xlfn.XLOOKUP($N34,$AC$8:$AC$56,$AC$8:$AC$56,,-1,1) -> 35.5 | Q34: =_xlfn.XLOOKUP($N34,$AC$8:$AC$56,$AC$8:$AC$56,,1,1) -> 35.5 | R34: =_xlfn.XLOOKUP($N34,$AC$8:$AC$56,$AD$8:$AD$56,,-1,1) -> 0 | S34: =_xlfn.XLOOKUP($N34,$AC$8:$AC$56,$AD$8:$AD$56,,1,1) -> 0 | T34: =IF($P34=$Q34,$R34,FORECAST($N34,$R34:$S34,$P34:$Q34)) -> 0 | U34: =_xlfn.XLOOKUP($O34,$AC$8:$AC$56,$AC$8:$AC$56,,-1,1) -> 35.5 | V34: =_xlfn.XLOOKUP($O34,$AC$8:$AC$56,$AC$8:$AC$56,,1,1) -> 35.5 | W34: =_xlfn.XLOOKUP($O34,$AC$8:$AC$56,$AD$8:$AD$56,,-1,1) -> 0 | X34: =_xlfn.XLOOKUP($O34,$AC$8:$AC$56,$AD$8:$AD$56,,1,1) -> 0 | Y34: =IF($U34=$V34,$W34,FORECAST($O34,$W34:$X34,$U34:$V34)) -> 0 | AA34: {=IF(SUM(((($AC$8:$AC$56)>$N34)*1)*((($AC$8:$AC$56)<$O34)*1))>0,SUM((_xlfn.VSTACK((_xlfn._xlws.FILTER(((($AC$8:$AC$56)>$N34)*1)*((($AC$8:$AC$56)<$O34)*1)*($AC$8:$AC$56),((($AC$8:$AC$56)>$N34)*1)*((($AC$8:$AC$56)<$O34)*1)*($AC$8:$AC$56)>0)),$O34)-_xlfn.VSTACK($N34,(_xlfn._xlws.FILTER(((($AC$8:$AC$56)>$N34)*1)*((($AC$8:$AC$56)<$O34)*1)*($AC$8:$AC$56),((($AC$8:$AC$56)>$N34)*1)*((($AC$8:$AC$56)<$O34)*1)*($AC$8:$AC$56)>0))))*((_xlfn.VSTACK($T34,(_xlfn._xlws.FILTER(((($AC$8:$AC$56)>$N34)*1)*((($AC$8:$AC$56)<$O34)*1)*($AD$8:$AD$56),((($AC$8:$AC$56)>$N34)*1)*((($AC$8:$AC$56)<$O34)))))+_xlfn.VSTACK((_xlfn._xlws.FILTER(((($AC$8:$AC$56)>$N34)*1)*((($AC$8:$AC$56)<$O34)*1)*($AD$8:$AD$56),((($AC$8:$AC$56)>$N34)*1)*((($AC$8:$AC$56)<$O34)))),$Y34))/2)),($O34-$N34)*($T34+$Y34)/2)} -> 0 | AC34: =IF($B$4="Original WL",'Original Cross Section - 1st WL'!A34,'Updated Cross Section - New WL'!A35) -> 33.5 | AD34: =IF($B$4="Original WL",'Original Cross Section - 1st WL'!C34,'Updated Cross Section - New WL'!C35) -> 0.42
D35: =$AA35 -> 0 | E35: =$B35*$C35*$D35 -> 0 | H35: =IF(A35<>0,_xlfn.XLOOKUP($A35,$AC$8:$AC$56,$AC$8:$AC$56,,-1,1),MAX($AC$8:$AC$56)) -> 35.5 | I35: =IF(A35<>0,_xlfn.XLOOKUP($A35,$AC$8:$AC$56,$AC$8:$AC$56,,1,1),MAX($AC$8:$AC$56)) -> 35.5 | J35: =IF(A35<>0,_xlfn.XLOOKUP($A35,$AC$8:$AC$56,$AD$8:$AD$56,,-1,1),0) -> 0 | K35: =IF(A35<>0,_xlfn.XLOOKUP($A35,$AC$8:$AC$56,$AD$8:$AD$56,,1,1),0) -> 0 | L35: =IF($H35=$I35,$J35,FORECAST($A35,$J35:$K35,$H35:$I35)) -> 0 | N35: =IF(A35<>0,(A34+A35)/2,MAX($AC$8:$AC$56)) -> 35.5 | O35: =IF(A36<>0,(A35+A36)/2,MAX($AC$8:$AC$56)) -> 35.5 | P35: =_xlfn.XLOOKUP($N35,$AC$8:$AC$56,$AC$8:$AC$56,,-1,1) -> 35.5 | Q35: =_xlfn.XLOOKUP($N35,$AC$8:$AC$56,$AC$8:$AC$56,,1,1) -> 35.5 | R35: =_xlfn.XLOOKUP($N35,$AC$8:$AC$56,$AD$8:$AD$56,,-1,1) -> 0 | S35: =_xlfn.XLOOKUP($N35,$AC$8:$AC$56,$AD$8:$AD$56,,1,1) -> 0 | T35: =IF($P35=$Q35,$R35,FORECAST($N35,$R35:$S35,$P35:$Q35)) -> 0 | U35: =_xlfn.XLOOKUP($O35,$AC$8:$AC$56,$AC$8:$AC$56,,-1,1) -> 35.5 | V35: =_xlfn.XLOOKUP($O35,$AC$8:$AC$56,$AC$8:$AC$56,,1,1) -> 35.5 | W35: =_xlfn.XLOOKUP($O35,$AC$8:$AC$56,$AD$8:$AD$56,,-1,1) -> 0 | X35: =_xlfn.XLOOKUP($O35,$AC$8:$AC$56,$AD$8:$AD$56,,1,1) -> 0 | Y35: =IF($U35=$V35,$W35,FORECAST($O35,$W35:$X35,$U35:$V35)) -> 0 | AA35: {=IF(SUM(((($AC$8:$AC$56)>$N35)*1)*((($AC$8:$AC$56)<$O35)*1))>0,SUM((_xlfn.VSTACK((_xlfn._xlws.FILTER(((($AC$8:$AC$56)>$N35)*1)*((($AC$8:$AC$56)<$O35)*1)*($AC$8:$AC$56),((($AC$8:$AC$56)>$N35)*1)*((($AC$8:$AC$56)<$O35)*1)*($AC$8:$AC$56)>0)),$O35)-_xlfn.VSTACK($N35,(_xlfn._xlws.FILTER(((($AC$8:$AC$56)>$N35)*1)*((($AC$8:$AC$56)<$O35)*1)*($AC$8:$AC$56),((($AC$8:$AC$56)>$N35)*1)*((($AC$8:$AC$56)<$O35)*1)*($AC$8:$AC$56)>0))))*((_xlfn.VSTACK($T35,(_xlfn._xlws.FILTER(((($AC$8:$AC$56)>$N35)*1)*((($AC$8:$AC$56)<$O35)*1)*($AD$8:$AD$56),((($AC$8:$AC$56)>$N35)*1)*((($AC$8:$AC$56)<$O35)))))+_xlfn.VSTACK((_xlfn._xlws.FILTER(((($AC$8:$AC$56)>$N35)*1)*((($AC$8:$AC$56)<$O35)*1)*($AD$8:$AD$56),((($AC$8:$AC$56)>$N35)*1)*((($AC$8:$AC$56)<$O35)))),$Y35))/2)),($O35-$N35)*($T35+$Y35)/2)} -> 0 | AC35: =IF($B$4="Original WL",'Original Cross Section - 1st WL'!A35,'Updated Cross Section - New WL'!A36) -> 34.5 | AD35: =IF($B$4="Original WL",'Original Cross Section - 1st WL'!C35,'Updated Cross Section - New WL'!C36) -> 0
D36: =$AA36 -> 0 | E36: =$B36*$C36*$D36 -> 0 | H36: =IF(A36<>0,_xlfn.XLOOKUP($A36,$AC$8:$AC$56,$AC$8:$AC$56,,-1,1),MAX($AC$8:$AC$56)) -> 35.5 | I36: =IF(A36<>0,_xlfn.XLOOKUP($A36,$AC$8:$AC$56,$AC$8:$AC$56,,1,1),MAX($AC$8:$AC$56)) -> 35.5 | J36: =IF(A36<>0,_xlfn.XLOOKUP($A36,$AC$8:$AC$56,$AD$8:$AD$56,,-1,1),0) -> 0 | K36: =IF(A36<>0,_xlfn.XLOOKUP($A36,$AC$8:$AC$56,$AD$8:$AD$56,,1,1),0) -> 0 | L36: =IF($H36=$I36,$J36,FORECAST($A36,$J36:$K36,$H36:$I36)) -> 0 | N36: =IF(A36<>0,(A35+A36)/2,MAX($AC$8:$AC$56)) -> 35.5 | O36: =IF(A37<>0,(A36+A37)/2,MAX($AC$8:$AC$56)) -> 35.5 | P36: =_xlfn.XLOOKUP($N36,$AC$8:$AC$56,$AC$8:$AC$56,,-1,1) -> 35.5 | Q36: =_xlfn.XLOOKUP($N36,$AC$8:$AC$56,$AC$8:$AC$56,,1,1) -> 35.5 | R36: =_xlfn.XLOOKUP($N36,$AC$8:$AC$56,$AD$8:$AD$56,,-1,1) -> 0 | S36: =_xlfn.XLOOKUP($N36,$AC$8:$AC$56,$AD$8:$AD$56,,1,1) -> 0 | T36: =IF($P36=$Q36,$R36,FORECAST($N36,$R36:$S36,$P36:$Q36)) -> 0 | U36: =_xlfn.XLOOKUP($O36,$AC$8:$AC$56,$AC$8:$AC$56,,-1,1) -> 35.5 | V36: =_xlfn.XLOOKUP($O36,$AC$8:$AC$56,$AC$8:$AC$56,,1,1) -> 35.5 | W36: =_xlfn.XLOOKUP($O36,$AC$8:$AC$56,$AD$8:$AD$56,,-1,1) -> 0 | X36: =_xlfn.XLOOKUP($O36,$AC$8:$AC$56,$AD$8:$AD$56,,1,1) -> 0 | Y36: =IF($U36=$V36,$W36,FORECAST($O36,$W36:$X36,$U36:$V36)) -> 0 | AA36: {=IF(SUM(((($AC$8:$AC$56)>$N36)*1)*((($AC$8:$AC$56)<$O36)*1))>0,SUM((_xlfn.VSTACK((_xlfn._xlws.FILTER(((($AC$8:$AC$56)>$N36)*1)*((($AC$8:$AC$56)<$O36)*1)*($AC$8:$AC$56),((($AC$8:$AC$56)>$N36)*1)*((($AC$8:$AC$56)<$O36)*1)*($AC$8:$AC$56)>0)),$O36)-_xlfn.VSTACK($N36,(_xlfn._xlws.FILTER(((($AC$8:$AC$56)>$N36)*1)*((($AC$8:$AC$56)<$O36)*1)*($AC$8:$AC$56),((($AC$8:$AC$56)>$N36)*1)*((($AC$8:$AC$56)<$O36)*1)*($AC$8:$AC$56)>0))))*((_xlfn.VSTACK($T36,(_xlfn._xlws.FILTER(((($AC$8:$AC$56)>$N36)*1)*((($AC$8:$AC$56)<$O36)*1)*($AD$8:$AD$56),((($AC$8:$AC$56)>$N36)*1)*((($AC$8:$AC$56)<$O36)))))+_xlfn.VSTACK((_xlfn._xlws.FILTER(((($AC$8:$AC$56)>$N36)*1)*((($AC$8:$AC$56)<$O36)*1)*($AD$8:$AD$56),((($AC$8:$AC$56)>$N36)*1)*((($AC$8:$AC$56)<$O36)))),$Y36))/2)),($O36-$N36)*($T36+$Y36)/2)} -> 0 | AC36: =IF($B$4="Original WL",'Original Cross Section - 1st WL'!A36,'Updated Cross Section - New WL'!A37) -> 35.5 | AD36: =IF($B$4="Original WL",'Original Cross Section - 1st WL'!C36,'Updated Cross Section - New WL'!C37) -> 0
D37: =$AA37 -> 0 | E37: =$B37*$C37*$D37 -> 0 | H37: =IF(A37<>0,_xlfn.XLOOKUP($A37,$AC$8:$AC$56,$AC$8:$AC$56,,-1,1),MAX($AC$8:$AC$56)) -> 35.5 | I37: =IF(A37<>0,_xlfn.XLOOKUP($A37,$AC$8:$AC$56,$AC$8:$AC$56,,1,1),MAX($AC$8:$AC$56)) -> 35.5 | J37: =IF(A37<>0,_xlfn.XLOOKUP($A37,$AC$8:$AC$56,$AD$8:$AD$56,,-1,1),0) -> 0 | K37: =IF(A37<>0,_xlfn.XLOOKUP($A37,$AC$8:$AC$56,$AD$8:$AD$56,,1,1),0) -> 0 | L37: =IF($H37=$I37,$J37,FORECAST($A37,$J37:$K37,$H37:$I37)) -> 0 | N37: =IF(A37<>0,(A36+A37)/2,MAX($AC$8:$AC$56)) -> 35.5 | O37: =IF(A38<>0,(A37+A38)/2,MAX($AC$8:$AC$56)) -> 35.5 | P37: =_xlfn.XLOOKUP($N37,$AC$8:$AC$56,$AC$8:$AC$56,,-1,1) -> 35.5 | Q37: =_xlfn.XLOOKUP($N37,$AC$8:$AC$56,$AC$8:$AC$56,,1,1) -> 35.5 | R37: =_xlfn.XLOOKUP($N37,$AC$8:$AC$56,$AD$8:$AD$56,,-1,1) -> 0 | S37: =_xlfn.XLOOKUP($N37,$AC$8:$AC$56,$AD$8:$AD$56,,1,1) -> 0 | T37: =IF($P37=$Q37,$R37,FORECAST($N37,$R37:$S37,$P37:$Q37)) -> 0 | U37: =_xlfn.XLOOKUP($O37,$AC$8:$AC$56,$AC$8:$AC$56,,-1,1) -> 35.5 | V37: =_xlfn.XLOOKUP($O37,$AC$8:$AC$56,$AC$8:$AC$56,,1,1) -> 35.5 | W37: =_xlfn.XLOOKUP($O37,$AC$8:$AC$56,$AD$8:$AD$56,,-1,1) -> 0 | X37: =_xlfn.XLOOKUP($O37,$AC$8:$AC$56,$AD$8:$AD$56,,1,1) -> 0 | Y37: =IF($U37=$V37,$W37,FORECAST($O37,$W37:$X37,$U37:$V37)) -> 0 | AA37: {=IF(SUM(((($AC$8:$AC$56)>$N37)*1)*((($AC$8:$AC$56)<$O37)*1))>0,SUM((_xlfn.VSTACK((_xlfn._xlws.FILTER(((($AC$8:$AC$56)>$N37)*1)*((($AC$8:$AC$56)<$O37)*1)*($AC$8:$AC$56),((($AC$8:$AC$56)>$N37)*1)*((($AC$8:$AC$56)<$O37)*1)*($AC$8:$AC$56)>0)),$O37)-_xlfn.VSTACK($N37,(_xlfn._xlws.FILTER(((($AC$8:$AC$56)>$N37)*1)*((($AC$8:$AC$56)<$O37)*1)*($AC$8:$AC$56),((($AC$8:$AC$56)>$N37)*1)*((($AC$8:$AC$56)<$O37)*1)*($AC$8:$AC$56)>0))))*((_xlfn.VSTACK($T37,(_xlfn._xlws.FILTER(((($AC$8:$AC$56)>$N37)*1)*((($AC$8:$AC$56)<$O37)*1)*($AD$8:$AD$56),((($AC$8:$AC$56)>$N37)*1)*((($AC$8:$AC$56)<$O37)))))+_xlfn.VSTACK((_xlfn._xlws.FILTER(((($AC$8:$AC$56)>$N37)*1)*((($AC$8:$AC$56)<$O37)*1)*($AD$8:$AD$56),((($AC$8:$AC$56)>$N37)*1)*((($AC$8:$AC$56)<$O37)))),$Y37))/2)),($O37-$N37)*($T37+$Y37)/2)} -> 0 | AC37: =IF($B$4="Original WL",'Original Cross Section - 1st WL'!A37,'Updated Cross Section - New WL'!A38) -> 35.5 | AD37: =IF($B$4="Original WL",'Original Cross Section - 1st WL'!C37,'Updated Cross Section - New WL'!C38) -> 0
D38: =$AA38 -> 0 | E38: =$B38*$C38*$D38 -> 0 | H38: =IF(A38<>0,_xlfn.XLOOKUP($A38,$AC$8:$AC$56,$AC$8:$AC$56,,-1,1),MAX($AC$8:$AC$56)) -> 35.5 | I38: =IF(A38<>0,_xlfn.XLOOKUP($A38,$AC$8:$AC$56,$AC$8:$AC$56,,1,1),MAX($AC$8:$AC$56)) -> 35.5 | J38: =IF(A38<>0,_xlfn.XLOOKUP($A38,$AC$8:$AC$56,$AD$8:$AD$56,,-1,1),0) -> 0 | K38: =IF(A38<>0,_xlfn.XLOOKUP($A38,$AC$8:$AC$56,$AD$8:$AD$56,,1,1),0) -> 0 | L38: =IF($H38=$I38,$J38,FORECAST($A38,$J38:$K38,$H38:$I38)) -> 0 | N38: =IF(A38<>0,(A37+A38)/2,MAX($AC$8:$AC$56)) -> 35.5 | O38: =IF(A39<>0,(A38+A39)/2,MAX($AC$8:$AC$56)) -> 35.5 | P38: =_xlfn.XLOOKUP($N38,$AC$8:$AC$56,$AC$8:$AC$56,,-1,1) -> 35.5 | Q38: =_xlfn.XLOOKUP($N38,$AC$8:$AC$56,$AC$8:$AC$56,,1,1) -> 35.5 | R38: =_xlfn.XLOOKUP($N38,$AC$8:$AC$56,$AD$8:$AD$56,,-1,1) -> 0 | S38: =_xlfn.XLOOKUP($N38,$AC$8:$AC$56,$AD$8:$AD$56,,1,1) -> 0 | T38: =IF($P38=$Q38,$R38,FORECAST($N38,$R38:$S38,$P38:$Q38)) -> 0 | U38: =_xlfn.XLOOKUP($O38,$AC$8:$AC$56,$AC$8:$AC$56,,-1,1) -> 35.5 | V38: =_xlfn.XLOOKUP($O38,$AC$8:$AC$56,$AC$8:$AC$56,,1,1) -> 35.5 | W38: =_xlfn.XLOOKUP($O38,$AC$8:$AC$56,$AD$8:$AD$56,,-1,1) -> 0 | X38: =_xlfn.XLOOKUP($O38,$AC$8:$AC$56,$AD$8:$AD$56,,1,1) -> 0 | Y38: =IF($U38=$V38,$W38,FORECAST($O38,$W38:$X38,$U38:$V38)) -> 0 | AA38: {=IF(SUM(((($AC$8:$AC$56)>$N38)*1)*((($AC$8:$AC$56)<$O38)*1))>0,SUM((_xlfn.VSTACK((_xlfn._xlws.FILTER(((($AC$8:$AC$56)>$N38)*1)*((($AC$8:$AC$56)<$O38)*1)*($AC$8:$AC$56),((($AC$8:$AC$56)>$N38)*1)*((($AC$8:$AC$56)<$O38)*1)*($AC$8:$AC$56)>0)),$O38)-_xlfn.VSTACK($N38,(_xlfn._xlws.FILTER(((($AC$8:$AC$56)>$N38)*1)*((($AC$8:$AC$56)<$O38)*1)*($AC$8:$AC$56),((($AC$8:$AC$56)>$N38)*1)*((($AC$8:$AC$56)<$O38)*1)*($AC$8:$AC$56)>0))))*((_xlfn.VSTACK($T38,(_xlfn._xlws.FILTER(((($AC$8:$AC$56)>$N38)*1)*((($AC$8:$AC$56)<$O38)*1)*($AD$8:$AD$56),((($AC$8:$AC$56)>$N38)*1)*((($AC$8:$AC$56)<$O38)))))+_xlfn.VSTACK((_xlfn._xlws.FILTER(((($AC$8:$AC$56)>$N38)*1)*((($AC$8:$AC$56)<$O38)*1)*($AD$8:$AD$56),((($AC$8:$AC$56)>$N38)*1)*((($AC$8:$AC$56)<$O38)))),$Y38))/2)),($O38-$N38)*($T38+$Y38)/2)} -> 0 | AC38: =IF($B$4="Original WL",'Original Cross Section - 1st WL'!A38,'Updated Cross Section - New WL'!A39) -> 35.5 | AD38: =IF($B$4="Original WL",'Original Cross Section - 1st WL'!C38,'Updated Cross Section - New WL'!C39) -> 0
D39: =$AA39 -> 0 | E39: =$B39*$C39*$D39 -> 0 | H39: =IF(A39<>0,_xlfn.XLOOKUP($A39,$AC$8:$AC$56,$AC$8:$AC$56,,-1,1),MAX($AC$8:$AC$56)) -> 35.5 | I39: =IF(A39<>0,_xlfn.XLOOKUP($A39,$AC$8:$AC$56,$AC$8:$AC$56,,1,1),MAX($AC$8:$AC$56)) -> 35.5 | J39: =IF(A39<>0,_xlfn.XLOOKUP($A39,$AC$8:$AC$56,$AD$8:$AD$56,,-1,1),0) -> 0 | K39: =IF(A39<>0,_xlfn.XLOOKUP($A39,$AC$8:$AC$56,$AD$8:$AD$56,,1,1),0) -> 0 | L39: =IF($H39=$I39,$J39,FORECAST($A39,$J39:$K39,$H39:$I39)) -> 0 | N39: =IF(A39<>0,(A38+A39)/2,MAX($AC$8:$AC$56)) -> 35.5 | O39: =IF(A40<>0,(A39+A40)/2,MAX($AC$8:$AC$56)) -> 35.5 | P39: =_xlfn.XLOOKUP($N39,$AC$8:$AC$56,$AC$8:$AC$56,,-1,1) -> 35.5 | Q39: =_xlfn.XLOOKUP($N39,$AC$8:$AC$56,$AC$8:$AC$56,,1,1) -> 35.5 | R39: =_xlfn.XLOOKUP($N39,$AC$8:$AC$56,$AD$8:$AD$56,,-1,1) -> 0 | S39: =_xlfn.XLOOKUP($N39,$AC$8:$AC$56,$AD$8:$AD$56,,1,1) -> 0 | T39: =IF($P39=$Q39,$R39,FORECAST($N39,$R39:$S39,$P39:$Q39)) -> 0 | U39: =_xlfn.XLOOKUP($O39,$AC$8:$AC$56,$AC$8:$AC$56,,-1,1) -> 35.5 | V39: =_xlfn.XLOOKUP($O39,$AC$8:$AC$56,$AC$8:$AC$56,,1,1) -> 35.5 | W39: =_xlfn.XLOOKUP($O39,$AC$8:$AC$56,$AD$8:$AD$56,,-1,1) -> 0 | X39: =_xlfn.XLOOKUP($O39,$AC$8:$AC$56,$AD$8:$AD$56,,1,1) -> 0 | Y39: =IF($U39=$V39,$W39,FORECAST($O39,$W39:$X39,$U39:$V39)) -> 0 | AA39: {=IF(SUM(((($AC$8:$AC$56)>$N39)*1)*((($AC$8:$AC$56)<$O39)*1))>0,SUM((_xlfn.VSTACK((_xlfn._xlws.FILTER(((($AC$8:$AC$56)>$N39)*1)*((($AC$8:$AC$56)<$O39)*1)*($AC$8:$AC$56),((($AC$8:$AC$56)>$N39)*1)*((($AC$8:$AC$56)<$O39)*1)*($AC$8:$AC$56)>0)),$O39)-_xlfn.VSTACK($N39,(_xlfn._xlws.FILTER(((($AC$8:$AC$56)>$N39)*1)*((($AC$8:$AC$56)<$O39)*1)*($AC$8:$AC$56),((($AC$8:$AC$56)>$N39)*1)*((($AC$8:$AC$56)<$O39)*1)*($AC$8:$AC$56)>0))))*((_xlfn.VSTACK($T39,(_xlfn._xlws.FILTER(((($AC$8:$AC$56)>$N39)*1)*((($AC$8:$AC$56)<$O39)*1)*($AD$8:$AD$56),((($AC$8:$AC$56)>$N39)*1)*((($AC$8:$AC$56)<$O39)))))+_xlfn.VSTACK((_xlfn._xlws.FILTER(((($AC$8:$AC$56)>$N39)*1)*((($AC$8:$AC$56)<$O39)*1)*($AD$8:$AD$56),((($AC$8:$AC$56)>$N39)*1)*((($AC$8:$AC$56)<$O39)))),$Y39))/2)),($O39-$N39)*($T39+$Y39)/2)} -> 0 | AC39: =IF($B$4="Original WL",'Original Cross Section - 1st WL'!A39,'Updated Cross Section - New WL'!A40) -> 35.5 | AD39: =IF($B$4="Original WL",'Original Cross Section - 1st WL'!C39,'Updated Cross Section - New WL'!C40) -> 0
D40: =$AA40 -> 0 | E40: =$B40*$C40*$D40 -> 0 | H40: =IF(A40<>0,_xlfn.XLOOKUP($A40,$AC$8:$AC$56,$AC$8:$AC$56,,-1,1),MAX($AC$8:$AC$56)) -> 35.5 | I40: =IF(A40<>0,_xlfn.XLOOKUP($A40,$AC$8:$AC$56,$AC$8:$AC$56,,1,1),MAX($AC$8:$AC$56)) -> 35.5 | J40: =IF(A40<>0,_xlfn.XLOOKUP($A40,$AC$8:$AC$56,$AD$8:$AD$56,,-1,1),0) -> 0 | K40: =IF(A40<>0,_xlfn.XLOOKUP($A40,$AC$8:$AC$56,$AD$8:$AD$56,,1,1),0) -> 0 | L40: =IF($H40=$I40,$J40,FORECAST($A40,$J40:$K40,$H40:$I40)) -> 0 | N40: =IF(A40<>0,(A39+A40)/2,MAX($AC$8:$AC$56)) -> 35.5 | O40: =IF(A41<>0,(A40+A41)/2,MAX($AC$8:$AC$56)) -> 35.5 | P40: =_xlfn.XLOOKUP($N40,$AC$8:$AC$56,$AC$8:$AC$56,,-1,1) -> 35.5 | Q40: =_xlfn.XLOOKUP($N40,$AC$8:$AC$56,$AC$8:$AC$56,,1,1) -> 35.5 | R40: =_xlfn.XLOOKUP($N40,$AC$8:$AC$56,$AD$8:$AD$56,,-1,1) -> 0 | S40: =_xlfn.XLOOKUP($N40,$AC$8:$AC$56,$AD$8:$AD$56,,1,1) -> 0 | T40: =IF($P40=$Q40,$R40,FORECAST($N40,$R40:$S40,$P40:$Q40)) -> 0 | U40: =_xlfn.XLOOKUP($O40,$AC$8:$AC$56,$AC$8:$AC$56,,-1,1) -> 35.5 | V40: =_xlfn.XLOOKUP($O40,$AC$8:$AC$56,$AC$8:$AC$56,,1,1) -> 35.5 | W40: =_xlfn.XLOOKUP($O40,$AC$8:$AC$56,$AD$8:$AD$56,,-1,1) -> 0 | X40: =_xlfn.XLOOKUP($O40,$AC$8:$AC$56,$AD$8:$AD$56,,1,1) -> 0 | Y40: =IF($U40=$V40,$W40,FORECAST($O40,$W40:$X40,$U40:$V40)) -> 0 | AA40: {=IF(SUM(((($AC$8:$AC$56)>$N40)*1)*((($AC$8:$AC$56)<$O40)*1))>0,SUM((_xlfn.VSTACK((_xlfn._xlws.FILTER(((($AC$8:$AC$56)>$N40)*1)*((($AC$8:$AC$56)<$O40)*1)*($AC$8:$AC$56),((($AC$8:$AC$56)>$N40)*1)*((($AC$8:$AC$56)<$O40)*1)*($AC$8:$AC$56)>0)),$O40)-_xlfn.VSTACK($N40,(_xlfn._xlws.FILTER(((($AC$8:$AC$56)>$N40)*1)*((($AC$8:$AC$56)<$O40)*1)*($AC$8:$AC$56),((($AC$8:$AC$56)>$N40)*1)*((($AC$8:$AC$56)<$O40)*1)*($AC$8:$AC$56)>0))))*((_xlfn.VSTACK($T40,(_xlfn._xlws.FILTER(((($AC$8:$AC$56)>$N40)*1)*((($AC$8:$AC$56)<$O40)*1)*($AD$8:$AD$56),((($AC$8:$AC$56)>$N40)*1)*((($AC$8:$AC$56)<$O40)))))+_xlfn.VSTACK((_xlfn._xlws.FILTER(((($AC$8:$AC$56)>$N40)*1)*((($AC$8:$AC$56)<$O40)*1)*($AD$8:$AD$56),((($AC$8:$AC$56)>$N40)*1)*((($AC$8:$AC$56)<$O40)))),$Y40))/2)),($O40-$N40)*($T40+$Y40)/2)} -> 0 | AC40: =IF($B$4="Original WL",'Original Cross Section - 1st WL'!A40,'Updated Cross Section - New WL'!A41) -> 35.5 | AD40: =IF($B$4="Original WL",'Original Cross Section - 1st WL'!C40,'Updated Cross Section - New WL'!C41) -> 0
D41: =$AA41 -> 0 | E41: =$B41*$C41*$D41 -> 0 | H41: =IF(A41<>0,_xlfn.XLOOKUP($A41,$AC$8:$AC$56,$AC$8:$AC$56,,-1,1),MAX($AC$8:$AC$56)) -> 35.5 | I41: =IF(A41<>0,_xlfn.XLOOKUP($A41,$AC$8:$AC$56,$AC$8:$AC$56,,1,1),MAX($AC$8:$AC$56)) -> 35.5 | J41: =IF(A41<>0,_xlfn.XLOOKUP($A41,$AC$8:$AC$56,$AD$8:$AD$56,,-1,1),0) -> 0 | K41: =IF(A41<>0,_xlfn.XLOOKUP($A41,$AC$8:$AC$56,$AD$8:$AD$56,,1,1),0) -> 0 | L41: =IF($H41=$I41,$J41,FORECAST($A41,$J41:$K41,$H41:$I41)) -> 0 | N41: =IF(A41<>0,(A40+A41)/2,MAX($AC$8:$AC$56)) -> 35.5 | O41: =IF(A42<>0,(A41+A42)/2,MAX($AC$8:$AC$56)) -> 35.5 | P41: =_xlfn.XLOOKUP($N41,$AC$8:$AC$56,$AC$8:$AC$56,,-1,1) -> 35.5 | Q41: =_xlfn.XLOOKUP($N41,$AC$8:$AC$56,$AC$8:$AC$56,,1,1) -> 35.5 | R41: =_xlfn.XLOOKUP($N41,$AC$8:$AC$56,$AD$8:$AD$56,,-1,1) -> 0 | S41: =_xlfn.XLOOKUP($N41,$AC$8:$AC$56,$AD$8:$AD$56,,1,1) -> 0 | T41: =IF($P41=$Q41,$R41,FORECAST($N41,$R41:$S41,$P41:$Q41)) -> 0 | U41: =_xlfn.XLOOKUP($O41,$AC$8:$AC$56,$AC$8:$AC$56,,-1,1) -> 35.5 | V41: =_xlfn.XLOOKUP($O41,$AC$8:$AC$56,$AC$8:$AC$56,,1,1) -> 35.5 | W41: =_xlfn.XLOOKUP($O41,$AC$8:$AC$56,$AD$8:$AD$56,,-1,1) -> 0 | X41: =_xlfn.XLOOKUP($O41,$AC$8:$AC$56,$AD$8:$AD$56,,1,1) -> 0 | Y41: =IF($U41=$V41,$W41,FORECAST($O41,$W41:$X41,$U41:$V41)) -> 0 | AA41: {=IF(SUM(((($AC$8:$AC$56)>$N41)*1)*((($AC$8:$AC$56)<$O41)*1))>0,SUM((_xlfn.VSTACK((_xlfn._xlws.FILTER(((($AC$8:$AC$56)>$N41)*1)*((($AC$8:$AC$56)<$O41)*1)*($AC$8:$AC$56),((($AC$8:$AC$56)>$N41)*1)*((($AC$8:$AC$56)<$O41)*1)*($AC$8:$AC$56)>0)),$O41)-_xlfn.VSTACK($N41,(_xlfn._xlws.FILTER(((($AC$8:$AC$56)>$N41)*1)*((($AC$8:$AC$56)<$O41)*1)*($AC$8:$AC$56),((($AC$8:$AC$56)>$N41)*1)*((($AC$8:$AC$56)<$O41)*1)*($AC$8:$AC$56)>0))))*((_xlfn.VSTACK($T41,(_xlfn._xlws.FILTER(((($AC$8:$AC$56)>$N41)*1)*((($AC$8:$AC$56)<$O41)*1)*($AD$8:$AD$56),((($AC$8:$AC$56)>$N41)*1)*((($AC$8:$AC$56)<$O41)))))+_xlfn.VSTACK((_xlfn._xlws.FILTER(((($AC$8:$AC$56)>$N41)*1)*((($AC$8:$AC$56)<$O41)*1)*($AD$8:$AD$56),((($AC$8:$AC$56)>$N41)*1)*((($AC$8:$AC$56)<$O41)))),$Y41))/2)),($O41-$N41)*($T41+$Y41)/2)} -> 0 | AC41: =IF($B$4="Original WL",'Original Cross Section - 1st WL'!A41,'Updated Cross Section - New WL'!A42) -> 35.5 | AD41: =IF($B$4="Original WL",'Original Cross Section - 1st WL'!C41,'Updated Cross Section - New WL'!C42) -> 0
D42: =$AA42 -> 0 | E42: =$B42*$C42*$D42 -> 0 | H42: =IF(A42<>0,_xlfn.XLOOKUP($A42,$AC$8:$AC$56,$AC$8:$AC$56,,-1,1),MAX($AC$8:$AC$56)) -> 35.5 | I42: =IF(A42<>0,_xlfn.XLOOKUP($A42,$AC$8:$AC$56,$AC$8:$AC$56,,1,1),MAX($AC$8:$AC$56)) -> 35.5 | J42: =IF(A42<>0,_xlfn.XLOOKUP($A42,$AC$8:$AC$56,$AD$8:$AD$56,,-1,1),0) -> 0 | K42: =IF(A42<>0,_xlfn.XLOOKUP($A42,$AC$8:$AC$56,$AD$8:$AD$56,,1,1),0) -> 0 | L42: =IF($H42=$I42,$J42,FORECAST($A42,$J42:$K42,$H42:$I42)) -> 0 | N42: =IF(A42<>0,(A41+A42)/2,MAX($AC$8:$AC$56)) -> 35.5 | O42: =IF(A43<>0,(A42+A43)/2,MAX($AC$8:$AC$56)) -> 35.5 | P42: =_xlfn.XLOOKUP($N42,$AC$8:$AC$56,$AC$8:$AC$56,,-1,1) -> 35.5 | Q42: =_xlfn.XLOOKUP($N42,$AC$8:$AC$56,$AC$8:$AC$56,,1,1) -> 35.5 | R42: =_xlfn.XLOOKUP($N42,$AC$8:$AC$56,$AD$8:$AD$56,,-1,1) -> 0 | S42: =_xlfn.XLOOKUP($N42,$AC$8:$AC$56,$AD$8:$AD$56,,1,1) -> 0 | T42: =IF($P42=$Q42,$R42,FORECAST($N42,$R42:$S42,$P42:$Q42)) -> 0 | U42: =_xlfn.XLOOKUP($O42,$AC$8:$AC$56,$AC$8:$AC$56,,-1,1) -> 35.5 | V42: =_xlfn.XLOOKUP($O42,$AC$8:$AC$56,$AC$8:$AC$56,,1,1) -> 35.5 | W42: =_xlfn.XLOOKUP($O42,$AC$8:$AC$56,$AD$8:$AD$56,,-1,1) -> 0 | X42: =_xlfn.XLOOKUP($O42,$AC$8:$AC$56,$AD$8:$AD$56,,1,1) -> 0 | Y42: =IF($U42=$V42,$W42,FORECAST($O42,$W42:$X42,$U42:$V42)) -> 0 | AA42: {=IF(SUM(((($AC$8:$AC$56)>$N42)*1)*((($AC$8:$AC$56)<$O42)*1))>0,SUM((_xlfn.VSTACK((_xlfn._xlws.FILTER(((($AC$8:$AC$56)>$N42)*1)*((($AC$8:$AC$56)<$O42)*1)*($AC$8:$AC$56),((($AC$8:$AC$56)>$N42)*1)*((($AC$8:$AC$56)<$O42)*1)*($AC$8:$AC$56)>0)),$O42)-_xlfn.VSTACK($N42,(_xlfn._xlws.FILTER(((($AC$8:$AC$56)>$N42)*1)*((($AC$8:$AC$56)<$O42)*1)*($AC$8:$AC$56),((($AC$8:$AC$56)>$N42)*1)*((($AC$8:$AC$56)<$O42)*1)*($AC$8:$AC$56)>0))))*((_xlfn.VSTACK($T42,(_xlfn._xlws.FILTER(((($AC$8:$AC$56)>$N42)*1)*((($AC$8:$AC$56)<$O42)*1)*($AD$8:$AD$56),((($AC$8:$AC$56)>$N42)*1)*((($AC$8:$AC$56)<$O42)))))+_xlfn.VSTACK((_xlfn._xlws.FILTER(((($AC$8:$AC$56)>$N42)*1)*((($AC$8:$AC$56)<$O42)*1)*($AD$8:$AD$56),((($AC$8:$AC$56)>$N42)*1)*((($AC$8:$AC$56)<$O42)))),$Y42))/2)),($O42-$N42)*($T42+$Y42)/2)} -> 0 | AC42: =IF($B$4="Original WL",'Original Cross Section - 1st WL'!A42,'Updated Cross Section - New WL'!A43) -> 35.5 | AD42: =IF($B$4="Original WL",'Original Cross Section - 1st WL'!C42,'Updated Cross Section - New WL'!C43) -> 0
D43: =$AA43 -> 0 | E43: =$B43*$C43*$D43 -> 0 | H43: =IF(A43<>0,_xlfn.XLOOKUP($A43,$AC$8:$AC$56,$AC$8:$AC$56,,-1,1),MAX($AC$8:$AC$56)) -> 35.5 | I43: =IF(A43<>0,_xlfn.XLOOKUP($A43,$AC$8:$AC$56,$AC$8:$AC$56,,1,1),MAX($AC$8:$AC$56)) -> 35.5 | J43: =IF(A43<>0,_xlfn.XLOOKUP($A43,$AC$8:$AC$56,$AD$8:$AD$56,,-1,1),0) -> 0 | K43: =IF(A43<>0,_xlfn.XLOOKUP($A43,$AC$8:$AC$56,$AD$8:$AD$56,,1,1),0) -> 0 | L43: =IF($H43=$I43,$J43,FORECAST($A43,$J43:$K43,$H43:$I43)) -> 0 | N43: =IF(A43<>0,(A42+A43)/2,MAX($AC$8:$AC$56)) -> 35.5 | O43: =IF(A44<>0,(A43+A44)/2,MAX($AC$8:$AC$56)) -> 35.5 | P43: =_xlfn.XLOOKUP($N43,$AC$8:$AC$56,$AC$8:$AC$56,,-1,1) -> 35.5 | Q43: =_xlfn.XLOOKUP($N43,$AC$8:$AC$56,$AC$8:$AC$56,,1,1) -> 35.5 | R43: =_xlfn.XLOOKUP($N43,$AC$8:$AC$56,$AD$8:$AD$56,,-1,1) -> 0 | S43: =_xlfn.XLOOKUP($N43,$AC$8:$AC$56,$AD$8:$AD$56,,1,1) -> 0 | T43: =IF($P43=$Q43,$R43,FORECAST($N43,$R43:$S43,$P43:$Q43)) -> 0 | U43: =_xlfn.XLOOKUP($O43,$AC$8:$AC$56,$AC$8:$AC$56,,-1,1) -> 35.5 | V43: =_xlfn.XLOOKUP($O43,$AC$8:$AC$56,$AC$8:$AC$56,,1,1) -> 35.5 | W43: =_xlfn.XLOOKUP($O43,$AC$8:$AC$56,$AD$8:$AD$56,,-1,1) -> 0 | X43: =_xlfn.XLOOKUP($O43,$AC$8:$AC$56,$AD$8:$AD$56,,1,1) -> 0 | Y43: =IF($U43=$V43,$W43,FORECAST($O43,$W43:$X43,$U43:$V43)) -> 0 | AA43: {=IF(SUM(((($AC$8:$AC$56)>$N43)*1)*((($AC$8:$AC$56)<$O43)*1))>0,SUM((_xlfn.VSTACK((_xlfn._xlws.FILTER(((($AC$8:$AC$56)>$N43)*1)*((($AC$8:$AC$56)<$O43)*1)*($AC$8:$AC$56),((($AC$8:$AC$56)>$N43)*1)*((($AC$8:$AC$56)<$O43)*1)*($AC$8:$AC$56)>0)),$O43)-_xlfn.VSTACK($N43,(_xlfn._xlws.FILTER(((($AC$8:$AC$56)>$N43)*1)*((($AC$8:$AC$56)<$O43)*1)*($AC$8:$AC$56),((($AC$8:$AC$56)>$N43)*1)*((($AC$8:$AC$56)<$O43)*1)*($AC$8:$AC$56)>0))))*((_xlfn.VSTACK($T43,(_xlfn._xlws.FILTER(((($AC$8:$AC$56)>$N43)*1)*((($AC$8:$AC$56)<$O43)*1)*($AD$8:$AD$56),((($AC$8:$AC$56)>$N43)*1)*((($AC$8:$AC$56)<$O43)))))+_xlfn.VSTACK((_xlfn._xlws.FILTER(((($AC$8:$AC$56)>$N43)*1)*((($AC$8:$AC$56)<$O43)*1)*($AD$8:$AD$56),((($AC$8:$AC$56)>$N43)*1)*((($AC$8:$AC$56)<$O43)))),$Y43))/2)),($O43-$N43)*($T43+$Y43)/2)} -> 0 | AC43: =IF($B$4="Original WL",'Original Cross Section - 1st WL'!A43,'Updated Cross Section - New WL'!A44) -> 35.5 | AD43: =IF($B$4="Original WL",'Original Cross Section - 1st WL'!C43,'Updated Cross Section - New WL'!C44) -> 0
D44: =$AA44 -> 0 | E44: =$B44*$C44*$D44 -> 0 | H44: =IF(A44<>0,_xlfn.XLOOKUP($A44,$AC$8:$AC$56,$AC$8:$AC$56,,-1,1),MAX($AC$8:$AC$56)) -> 35.5 | I44: =IF(A44<>0,_xlfn.XLOOKUP($A44,$AC$8:$AC$56,$AC$8:$AC$56,,1,1),MAX($AC$8:$AC$56)) -> 35.5 | J44: =IF(A44<>0,_xlfn.XLOOKUP($A44,$AC$8:$AC$56,$AD$8:$AD$56,,-1,1),0) -> 0 | K44: =IF(A44<>0,_xlfn.XLOOKUP($A44,$AC$8:$AC$56,$AD$8:$AD$56,,1,1),0) -> 0 | L44: =IF($H44=$I44,$J44,FORECAST($A44,$J44:$K44,$H44:$I44)) -> 0 | N44: =IF(A44<>0,(A43+A44)/2,MAX($AC$8:$AC$56)) -> 35.5 | O44: =IF(A45<>0,(A44+A45)/2,MAX($AC$8:$AC$56)) -> 35.5 | P44: =_xlfn.XLOOKUP($N44,$AC$8:$AC$56,$AC$8:$AC$56,,-1,1) -> 35.5 | Q44: =_xlfn.XLOOKUP($N44,$AC$8:$AC$56,$AC$8:$AC$56,,1,1) -> 35.5 | R44: =_xlfn.XLOOKUP($N44,$AC$8:$AC$56,$AD$8:$AD$56,,-1,1) -> 0 | S44: =_xlfn.XLOOKUP($N44,$AC$8:$AC$56,$AD$8:$AD$56,,1,1) -> 0 | T44: =IF($P44=$Q44,$R44,FORECAST($N44,$R44:$S44,$P44:$Q44)) -> 0 | U44: =_xlfn.XLOOKUP($O44,$AC$8:$AC$56,$AC$8:$AC$56,,-1,1) -> 35.5 | V44: =_xlfn.XLOOKUP($O44,$AC$8:$AC$56,$AC$8:$AC$56,,1,1) -> 35.5 | W44: =_xlfn.XLOOKUP($O44,$AC$8:$AC$56,$AD$8:$AD$56,,-1,1) -> 0 | X44: =_xlfn.XLOOKUP($O44,$AC$8:$AC$56,$AD$8:$AD$56,,1,1) -> 0 | Y44: =IF($U44=$V44,$W44,FORECAST($O44,$W44:$X44,$U44:$V44)) -> 0 | AA44: {=IF(SUM(((($AC$8:$AC$56)>$N44)*1)*((($AC$8:$AC$56)<$O44)*1))>0,SUM((_xlfn.VSTACK((_xlfn._xlws.FILTER(((($AC$8:$AC$56)>$N44)*1)*((($AC$8:$AC$56)<$O44)*1)*($AC$8:$AC$56),((($AC$8:$AC$56)>$N44)*1)*((($AC$8:$AC$56)<$O44)*1)*($AC$8:$AC$56)>0)),$O44)-_xlfn.VSTACK($N44,(_xlfn._xlws.FILTER(((($AC$8:$AC$56)>$N44)*1)*((($AC$8:$AC$56)<$O44)*1)*($AC$8:$AC$56),((($AC$8:$AC$56)>$N44)*1)*((($AC$8:$AC$56)<$O44)*1)*($AC$8:$AC$56)>0))))*((_xlfn.VSTACK($T44,(_xlfn._xlws.FILTER(((($AC$8:$AC$56)>$N44)*1)*((($AC$8:$AC$56)<$O44)*1)*($AD$8:$AD$56),((($AC$8:$AC$56)>$N44)*1)*((($AC$8:$AC$56)<$O44)))))+_xlfn.VSTACK((_xlfn._xlws.FILTER(((($AC$8:$AC$56)>$N44)*1)*((($AC$8:$AC$56)<$O44)*1)*($AD$8:$AD$56),((($AC$8:$AC$56)>$N44)*1)*((($AC$8:$AC$56)<$O44)))),$Y44))/2)),($O44-$N44)*($T44+$Y44)/2)} -> 0 | AC44: =IF($B$4="Original WL",'Original Cross Section - 1st WL'!A44,'Updated Cross Section - New WL'!A45) -> 35.5 | AD44: =IF($B$4="Original WL",'Original Cross Section - 1st WL'!C44,'Updated Cross Section - New WL'!C45) -> 0
... D46: =$AA46 -> 0 | E46: =$B46*$C46*$D46 -> 0 | H46: =IF(A46<>0,_xlfn.XLOOKUP($A46,$AC$8:$AC$56,$AC$8:$AC$56,,-1,1),MAX($AC$8:$AC$56)) -> 35.5 | I46: =IF(A46<>0,_xlfn.XLOOKUP($A46,$AC$8:$AC$56,$AC$8:$AC$56,,1,1),MAX($AC$8:$AC$56)) -> 35.5 | J46: =IF(A46<>0,_xlfn.XLOOKUP($A46,$AC$8:$AC$56,$AD$8:$AD$56,,-1,1),0) -> 0 | K46: =IF(A46<>0,_xlfn.XLOOKUP($A46,$AC$8:$AC$56,$AD$8:$AD$56,,1,1),0) -> 0 | L46: =IF($H46=$I46,$J46,FORECAST($A46,$J46:$K46,$H46:$I46)) -> 0 | N46: =IF(A46<>0,(A45+A46)/2,MAX($AC$8:$AC$56)) -> 35.5 | O46: =IF(A47<>0,(A46+A47)/2,MAX($AC$8:$AC$56)) -> 35.5 | P46: =_xlfn.XLOOKUP($N46,$AC$8:$AC$56,$AC$8:$AC$56,,-1,1) -> 35.5 | Q46: =_xlfn.XLOOKUP($N46,$AC$8:$AC$56,$AC$8:$AC$56,,1,1) -> 35.5 | R46: =_xlfn.XLOOKUP($N46,$AC$8:$AC$56,$AD$8:$AD$56,,-1,1) -> 0 | S46: =_xlfn.XLOOKUP($N46,$AC$8:$AC$56,$AD$8:$AD$56,,1,1) -> 0 | T46: =IF($P46=$Q46,$R46,FORECAST($N46,$R46:$S46,$P46:$Q46)) -> 0 | U46: =_xlfn.XLOOKUP($O46,$AC$8:$AC$56,$AC$8:$AC$56,,-1,1) -> 35.5 | V46: =_xlfn.XLOOKUP($O46,$AC$8:$AC$56,$AC$8:$AC$56,,1,1) -> 35.5 | W46: =_xlfn.XLOOKUP($O46,$AC$8:$AC$56,$AD$8:$AD$56,,-1,1) -> 0 | X46: =_xlfn.XLOOKUP($O46,$AC$8:$AC$56,$AD$8:$AD$56,,1,1) -> 0 | Y46: =IF($U46=$V46,$W46,FORECAST($O46,$W46:$X46,$U46:$V46)) -> 0 | AA46: {=IF(SUM(((($AC$8:$AC$56)>$N46)*1)*((($AC$8:$AC$56)<$O46)*1))>0,SUM((_xlfn.VSTACK((_xlfn._xlws.FILTER(((($AC$8:$AC$56)>$N46)*1)*((($AC$8:$AC$56)<$O46)*1)*($AC$8:$AC$56),((($AC$8:$AC$56)>$N46)*1)*((($AC$8:$AC$56)<$O46)*1)*($AC$8:$AC$56)>0)),$O46)-_xlfn.VSTACK($N46,(_xlfn._xlws.FILTER(((($AC$8:$AC$56)>$N46)*1)*((($AC$8:$AC$56)<$O46)*1)*($AC$8:$AC$56),((($AC$8:$AC$56)>$N46)*1)*((($AC$8:$AC$56)<$O46)*1)*($AC$8:$AC$56)>0))))*((_xlfn.VSTACK($T46,(_xlfn._xlws.FILTER(((($AC$8:$AC$56)>$N46)*1)*((($AC$8:$AC$56)<$O46)*1)*($AD$8:$AD$56),((($AC$8:$AC$56)>$N46)*1)*((($AC$8:$AC$56)<$O46)))))+_xlfn.VSTACK((_xlfn._xlws.FILTER(((($AC$8:$AC$56)>$N46)*1)*((($AC$8:$AC$56)<$O46)*1)*($AD$8:$AD$56),((($AC$8:$AC$56)>$N46)*1)*((($AC$8:$AC$56)<$O46)))),$Y46))/2)),($O46-$N46)*($T46+$Y46)/2)} -> 0 | AC46: =IF($B$4="Original WL",'Original Cross Section - 1st WL'!A46,'Updated Cross Section - New WL'!A47) -> 35.5 | AD46: =IF($B$4="Original WL",'Original Cross Section - 1st WL'!C46,'Updated Cross Section - New WL'!C47) -> 0
D47: =$AA47 -> 0 | E47: =$B47*$C47*$D47 -> 0 | H47: =IF(A47<>0,_xlfn.XLOOKUP($A47,$AC$8:$AC$56,$AC$8:$AC$56,,-1,1),MAX($AC$8:$AC$56)) -> 35.5 | I47: =IF(A47<>0,_xlfn.XLOOKUP($A47,$AC$8:$AC$56,$AC$8:$AC$56,,1,1),MAX($AC$8:$AC$56)) -> 35.5 | J47: =IF(A47<>0,_xlfn.XLOOKUP($A47,$AC$8:$AC$56,$AD$8:$AD$56,,-1,1),0) -> 0 | K47: =IF(A47<>0,_xlfn.XLOOKUP($A47,$AC$8:$AC$56,$AD$8:$AD$56,,1,1),0) -> 0 | L47: =IF($H47=$I47,$J47,FORECAST($A47,$J47:$K47,$H47:$I47)) -> 0 | N47: =IF(A47<>0,(A46+A47)/2,MAX($AC$8:$AC$56)) -> 35.5 | O47: =$AC$56 -> 35.5 | P47: =_xlfn.XLOOKUP($N47,$AC$8:$AC$56,$AC$8:$AC$56,,-1,1) -> 35.5 | Q47: =_xlfn.XLOOKUP($N47,$AC$8:$AC$56,$AC$8:$AC$56,,1,1) -> 35.5 | R47: =_xlfn.XLOOKUP($N47,$AC$8:$AC$56,$AD$8:$AD$56,,-1,1) -> 0 | S47: =_xlfn.XLOOKUP($N47,$AC$8:$AC$56,$AD$8:$AD$56,,1,1) -> 0 | T47: =IF($P47=$Q47,$R47,FORECAST($N47,$R47:$S47,$P47:$Q47)) -> 0 | U47: =_xlfn.XLOOKUP($O47,$AC$8:$AC$56,$AC$8:$AC$56,,-1,1) -> 35.5 | V47: =_xlfn.XLOOKUP($O47,$AC$8:$AC$56,$AC$8:$AC$56,,1,1) -> 35.5 | W47: =_xlfn.XLOOKUP($O47,$AC$8:$AC$56,$AD$8:$AD$56,,-1,1) -> 0 | X47: =_xlfn.XLOOKUP($O47,$AC$8:$AC$56,$AD$8:$AD$56,,1,1) -> 0 | Y47: =IF($U47=$V47,$W47,FORECAST($O47,$W47:$X47,$U47:$V47)) -> 0 | AA47: {=IF(SUM(((($AC$8:$AC$56)>$N47)*1)*((($AC$8:$AC$56)<$O47)*1))>0,SUM((_xlfn.VSTACK((_xlfn._xlws.FILTER(((($AC$8:$AC$56)>$N47)*1)*((($AC$8:$AC$56)<$O47)*1)*($AC$8:$AC$56),((($AC$8:$AC$56)>$N47)*1)*((($AC$8:$AC$56)<$O47)*1)*($AC$8:$AC$56)>0)),$O47)-_xlfn.VSTACK($N47,(_xlfn._xlws.FILTER(((($AC$8:$AC$56)>$N47)*1)*((($AC$8:$AC$56)<$O47)*1)*($AC$8:$AC$56),((($AC$8:$AC$56)>$N47)*1)*((($AC$8:$AC$56)<$O47)*1)*($AC$8:$AC$56)>0))))*((_xlfn.VSTACK($T47,(_xlfn._xlws.FILTER(((($AC$8:$AC$56)>$N47)*1)*((($AC$8:$AC$56)<$O47)*1)*($AD$8:$AD$56),((($AC$8:$AC$56)>$N47)*1)*((($AC$8:$AC$56)<$O47)))))+_xlfn.VSTACK((_xlfn._xlws.FILTER(((($AC$8:$AC$56)>$N47)*1)*((($AC$8:$AC$56)<$O47)*1)*($AD$8:$AD$56),((($AC$8:$AC$56)>$N47)*1)*((($AC$8:$AC$56)<$O47)))),$Y47))/2)),($O47-$N47)*($T47+$Y47)/2)} -> 0 | AC47: =IF($B$4="Original WL",'Original Cross Section - 1st WL'!A47,'Updated Cross Section - New WL'!A48) -> 35.5 | AD47: =IF($B$4="Original WL",'Original Cross Section - 1st WL'!C47,'Updated Cross Section - New WL'!C48) -> 0
A48: TRUE RIGHT BANK | B48: TRUE RIGHT BANK | E48: TRUE RIGHT BANK | AC48: =IF($B$4="Original WL",'Original Cross Section - 1st WL'!A48,'Updated Cross Section - New WL'!A49) -> 35.5 | AD48: =IF($B$4="Original WL",'Original Cross Section - 1st WL'!C48,'Updated Cross Section - New WL'!C49) -> 0
AC49: =IF($B$4="Original WL",'Original Cross Section - 1st WL'!A49,'Updated Cross Section - New WL'!A50) -> 35.5 | AD49: =IF($B$4="Original WL",'Original Cross Section - 1st WL'!C49,'Updated Cross Section - New WL'!C50) -> 0
A50: Total Discharge (m^3/s): | B50: =SUM(E8:E47) -> 92.100171 | AC50: =IF($B$4="Original WL",'Original Cross Section - 1st WL'!A50,'Updated Cross Section - New WL'!A51) -> 35.5 | AD50: =IF($B$4="Original WL",'Original Cross Section - 1st WL'!C50,'Updated Cross Section - New WL'!C51) -> 0
AC51: =IF($B$4="Original WL",'Original Cross Section - 1st WL'!A51,'Updated Cross Section - New WL'!A52) -> 35.5 | AD51: =IF($B$4="Original WL",'Original Cross Section - 1st WL'!C51,'Updated Cross Section - New WL'!C52) -> 0
A52: Total Wetted Area (m^3): | B52: =SUM(D8:D47) -> 42.791 | AC52: =IF($B$4="Original WL",'Original Cross Section - 1st WL'!A52,'Updated Cross Section - New WL'!A53) -> 35.5 | AD52: =IF($B$4="Original WL",'Original Cross Section - 1st WL'!C52,'Updated Cross Section - New WL'!C53) -> 0
AC53: =IF($B$4="Original WL",'Original Cross Section - 1st WL'!A53,'Updated Cross Section - New WL'!A54) -> 35.5 | AD53: =IF($B$4="Original WL",'Original Cross Section - 1st WL'!C53,'Updated Cross Section - New WL'!C54) -> 0
A54: Notes on calculations: | AC54: =IF($B$4="Original WL",'Original Cross Section - 1st WL'!A54,'Updated Cross Section - New WL'!A55) -> 35.5 | AD54: =IF($B$4="Original WL",'Original Cross Section - 1st WL'!C54,'Updated Cross Section - New WL'!C55) -> 0
A55: Use the 'Original Cross Section - 1st WL' sheet to input the surveyed cross section and original water level | AC55: =IF($B$4="Original WL",'Original Cross Section - 1st WL'!A55,'Updated Cross Section - New WL'!A56) -> 35.5 | AD55: =IF($B$4="Original WL",'Original Cross Section - 1st WL'!C55,'Updated Cross Section - New WL'!C56) -> 0
A56: Use the 'Updated Cross Section - New WL' to input the new water level, or water level elevation change relative to the 1st survey | AC56: =IF($B$4="Original WL",'Original Cross Section - 1st WL'!A56,'Updated Cross Section - New WL'!A57) -> 35.5 | AD56: =IF($B$4="Original WL",'Original Cross Section - 1st WL'!C56,'Updated Cross Section - New WL'!C57) -> 0
A57: Use the 'Velocity and Discharge' sheet to input surface velocity measurement locations, surface velocities, alpha values, and calculate discharge. | AC57: =IF($B$4="Original WL",'Original Cross Section - 1st WL'!A57,'Updated Cross Section - New WL'!A58) -> TRUE RIGHT BANK | AD57: =IF($B$4="Original WL",'Original Cross Section - 1st WL'!C57,'Updated Cross Section - New WL'!C58) -> TRUE RIGHT BANK
A58: Surface velocity measurement locations can be irregularly spaced and don’t need to match the cross section measurement locations.
A59: The edges of surface velocity bins (i.e. dA) are equidistant between surface velocity measurement locations. Except for first and last bins, which extend to the left bank and right bank of the cross section.
A60: Trapezoidal integration is used to find the area of each surface velocity bin. This integration follows the cross section profile between the left and right edges of the bins.
A61: This method of finding the area of each surface velocity bin along the cross section profile is much more accurate than simply using the bin edge points.
A62: For alpha estimation methods see: Biggs, H., Smart, G., Holwerda, N., Doyle, M., McDonald, M. & Ede, M. (2021). River discharge from surface velocity measurements - A field guide for selecting alpha. Envirolink Advice Report. Christchurch, New Zealand.
A63: Password to unlock the workbook is: UNLOCK
A64: Please copy and rename the workbook before unlocking it and editing.
A65: Discharge calculator orginally developed in MATLAB, then an additional Excel version developed for use without MATLAB software.
A66: This discharge calculator was originally developed by NIWA for work in Fiji and has been modified to generalise it for use in New Zealand. It is provided without any warranties or guarantees.
A67: Contact Hamish.Biggs@niwa.co.nz if you need to modify this calculator (i.e. adding extra rows) or are having any issues.

Sheet Original Cross Section - 1st WL
A1: Cross Section Spreadsheet
A3: Options: | B3: Inputs: | C3: Notes:
A4: Original Water Level On Staff Gauge (if present) (m) Or elevation relative to a datum peg on channel bank | B4: 1.68 | C4: If no staff gauge, then just peg the waters edge and copy the 'Original Survey Staff Water Level' above.
A6: Cross Stream Distance (m) | B6: Bed Elevation (m) Relative to staff gauge zero or peg on bank | C6: Depth (m) | D6: Notes:
A7: TRUE LEFT BANK | B7: TRUE LEFT BANK | C7: TRUE LEFT BANK
A8: 0 | B8: 2.4 | C8: =IF($B$4-B8>0,$B$4-B8,0) -> 0 | D8: First Measurement Is At Left Bank Reference Peg (y_PLB)
A9: 1 | B9: 1.88 | C9: =IF($B$4-B9>0,$B$4-B9,0) -> 0
A10: 2.3 | B10: 1.68 | C10: =IF($B$4-B10>0,$B$4-B10,0) -> 0 | D10: Original Cross Section Waters Edge LB
A11: 3.6 | B11: 1.27 | C11: =IF($B$4-B11>0,$B$4-B11,0) -> 0.41
A12: 4.9 | B12: 1.186 | C12: =IF($B$4-B12>0,$B$4-B12,0) -> 0.494
A13: 6.2 | B13: 1.066 | C13: =IF($B$4-B13>0,$B$4-B13,0) -> 0.614
A14: 7.5 | B14: 1.03 | C14: =IF($B$4-B14>0,$B$4-B14,0) -> 0.65
A15: 8.8 | B15: 0.926 | C15: =IF($B$4-B15>0,$B$4-B15,0) -> 0.754
A16: 10.1 | B16: 0.917 | C16: =IF($B$4-B16>0,$B$4-B16,0) -> 0.763
A17: 11.4 | B17: 0.689 | C17: =IF($B$4-B17>0,$B$4-B17,0) -> 0.991
A18: 12.7 | B18: 0.605 | C18: =IF($B$4-B18>0,$B$4-B18,0) -> 1.075
A19: 14 | B19: 0.531 | C19: =IF($B$4-B19>0,$B$4-B19,0) -> 1.149
A20: 15.3 | B20: 0.449 | C20: =IF($B$4-B20>0,$B$4-B20,0) -> 1.231
A21: 16.6 | B21: 0.395 | C21: =IF($B$4-B21>0,$B$4-B21,0) -> 1.285
A22: 17.9 | B22: 0.411 | C22: =IF($B$4-B22>0,$B$4-B22,0) -> 1.269
... A33: 32.2 | B33: 0.824 | C33: =IF($B$4-B33>0,$B$4-B33,0) -> 0.856
A34: 33.5 | B34: 1.68 | C34: =IF($B$4-B34>0,$B$4-B34,0) -> 0 | D34: Original Cross Section Waters Edge RB
A35: 34.5 | B35: 2.1 | C35: =IF($B$4-B35>0,$B$4-B35,0) -> 0
A36: 35.5 | B36: 2.4 | C36: =IF($B$4-B36>0,$B$4-B36,0) -> 0 | D36: Last Measurement Is At Right Bank Reference Peg (y_PRB)
A37: 35.5 | B37: 2.4 | C37: =IF($B$4-B37>0,$B$4-B37,0) -> 0 | D37: Copy last point of cross section to fill available cells
A38: 35.5 | B38: 2.4 | C38: =IF($B$4-B38>0,$B$4-B38,0) -> 0 | D38: Copy last point of cross section to fill available cells
A39: 35.5 | B39: 2.4 | C39: =IF($B$4-B39>0,$B$4-B39,0) -> 0 | D39: Copy last point of cross section to fill available cells
A40: 35.5 | B40: 2.4 | C40: =IF($B$4-B40>0,$B$4-B40,0) -> 0 | D40: Copy last point of cross section to fill available cells
A41: 35.5 | B41: 2.4 | C41: =IF($B$4-B41>0,$B$4-B41,0) -> 0 | D41: Copy last point of cross section to fill available cells
A42: 35.5 | B42: 2.4 | C42: =IF($B$4-B42>0,$B$4-B42,0) -> 0 | D42: Copy last point of cross section to fill available cells
A43: 35.5 | B43: 2.4 | C43: =IF($B$4-B43>0,$B$4-B43,0) -> 0 | D43: Copy last point of cross section to fill available cells
A44: 35.5 | B44: 2.4 | C44: =IF($B$4-B44>0,$B$4-B44,0) -> 0 | D44: Copy last point of cross section to fill available cells
A45: 35.5 | B45: 2.4 | C45: =IF($B$4-B45>0,$B$4-B45,0) -> 0 | D45: Copy last point of cross section to fill available cells
A46: 35.5 | B46: 2.4 | C46: =IF($B$4-B46>0,$B$4-B46,0) -> 0 | D46: Copy last point of cross section to fill available cells
A47: 35.5 | B47: 2.4 | C47: =IF($B$4-B47>0,$B$4-B47,0) -> 0 | D47: Copy last point of cross section to fill available cells
... A56: 35.5 | B56: 2.4 | C56: =IF($B$4-B56>0,$B$4-B56,0) -> 0 | D56: Copy last point of cross section to fill available cells
A57: TRUE RIGHT BANK | B57: TRUE RIGHT BANK | C57: TRUE RIGHT BANK
A59: Notes:
A60: The surveyed cross section should include points up channel banks for higher flows.
A61: Peg the start and end points of the cross section. y_PLB=0 , and y_PRB=width of cross section (i.e. distance between pegs). Surface velocity measurement locations are also relative to these pegs.
A62: For shallow wadable rivers the survey cross section could be measured in one go using a dumpy and survey staff, total station, or RTK GPS.
A63: For deeper rivers, the wet part of the cross section will likely need to be measured using an ADCP (i.e. in sections using SxS Pro or similar), with dry points on the channel banks surveyed using the above methods.
A64: Copy the last point of cross section to fill available cells.
A65: The surveyed cross section needs to be as 'elevation' relative to some datum, such as a staff gauge zero, or a reference peg on the channel bank. When measuring down from a reference peg on a channel bank (i.e. z=0 at the peg) elevations will be negative, and points above the reference peg will be positive.
A66: Password to unlock the workbook is: UNLOCK
A67: Please copy and rename the workbook before unlocking it and editing.
A68: In the plot below, dry points on the channel banks (i.e. above the water surface level) are assigned zero depth as there is no flow there.

Sheet Updated Cross Section - New WL
A1: Options: | C1: Notes:
A2: Option to use | B2: Option 1 | C2: Type: "Option 1" or "Option 2"
A3: Option 1: New Water Level On Staff Gauge (m) Or elevation relative to datum pin on channel bank | B3: 2.1
A4: Option 2: Water Level Change (m) | C4: If no staff gauge is present, then measure the change in water level relative to the original water level during the 1st survey. + is deeper (higher flow), - is shallower (lower flow)
A5: New Water Level (m) | B5: =IF($B$2="Option 1",B3,IF($B$2="Option 2",'Original Cross Section - 1st WL'!B4+$B$4,"Not a valid option")) -> 2.1 | C5: Lower values on the original survey staff are deeper (less distance to waters surface)
A7: Cross Stream Distance (m) | B7: Bed Elevation (m) Relative to staff gauge zero or peg on bank | C7: Depth (m) | D7: Notes:
A8: TRUE LEFT BANK | B8: TRUE LEFT BANK | C8: TRUE LEFT BANK
A9: ='Original Cross Section - 1st WL'!A8 -> 0 | B9: ='Original Cross Section - 1st WL'!B8 -> 2.4 | C9: =IF(($B$5-$B9)>0,($B$5-$B9),0) -> 0 | D9: ='Original Cross Section - 1st WL'!D8 -> First Measurement Is At Left Bank Reference Peg (y_PLB)
A10: ='Original Cross Section - 1st WL'!A9 -> 1 | B10: ='Original Cross Section - 1st WL'!B9 -> 1.88 | C10: =IF(($B$5-$B10)>0,($B$5-$B10),0) -> 0.22
A11: ='Original Cross Section - 1st WL'!A10 -> 2.3 | B11: ='Original Cross Section - 1st WL'!B10 -> 1.68 | C11: =IF(($B$5-$B11)>0,($B$5-$B11),0) -> 0.42 | D11: ='Original Cross Section - 1st WL'!D10 -> Original Cross Section Waters Edge LB
A12: ='Original Cross Section - 1st WL'!A11 -> 3.6 | B12: ='Original Cross Section - 1st WL'!B11 -> 1.27 | C12: =IF(($B$5-$B12)>0,($B$5-$B12),0) -> 0.83 | D12: ='Original Cross Section - 1st WL'!D11
A13: ='Original Cross Section - 1st WL'!A12 -> 4.9 | B13: ='Original Cross Section - 1st WL'!B12 -> 1.186 | C13: =IF(($B$5-$B13)>0,($B$5-$B13),0) -> 0.914 | D13: ='Original Cross Section - 1st WL'!D12
A14: ='Original Cross Section - 1st WL'!A13 -> 6.2 | B14: ='Original Cross Section - 1st WL'!B13 -> 1.066 | C14: =IF(($B$5-$B14)>0,($B$5-$B14),0) -> 1.034 | D14: ='Original Cross Section - 1st WL'!D13
A15: ='Original Cross Section - 1st WL'!A14 -> 7.5 | B15: ='Original Cross Section - 1st WL'!B14 -> 1.03 | C15: =IF(($B$5-$B15)>0,($B$5-$B15),0) -> 1.07 | D15: ='Original Cross Section - 1st WL'!D14
A16: ='Original Cross Section - 1st WL'!A15 -> 8.8 | B16: ='Original Cross Section - 1st WL'!B15 -> 0.926 | C16: =IF(($B$5-$B16)>0,($B$5-$B16),0) -> 1.174 | D16: ='Original Cross Section - 1st WL'!D15
A17: ='Original Cross Section - 1st WL'!A16 -> 10.1 | B17: ='Original Cross Section - 1st WL'!B16 -> 0.917 | C17: =IF(($B$5-$B17)>0,($B$5-$B17),0) -> 1.183 | D17: ='Original Cross Section - 1st WL'!D16
A18: ='Original Cross Section - 1st WL'!A17 -> 11.4 | B18: ='Original Cross Section - 1st WL'!B17 -> 0.689 | C18: =IF(($B$5-$B18)>0,($B$5-$B18),0) -> 1.411 | D18: ='Original Cross Section - 1st WL'!D17
A19: ='Original Cross Section - 1st WL'!A18 -> 12.7 | B19: ='Original Cross Section - 1st WL'!B18 -> 0.605 | C19: =IF(($B$5-$B19)>0,($B$5-$B19),0) -> 1.495 | D19: ='Original Cross Section - 1st WL'!D18
A20: ='Original Cross Section - 1st WL'!A19 -> 14 | B20: ='Original Cross Section - 1st WL'!B19 -> 0.531 | C20: =IF(($B$5-$B20)>0,($B$5-$B20),0) -> 1.569 | D20: ='Original Cross Section - 1st WL'!D19
A21: ='Original Cross Section - 1st WL'!A20 -> 15.3 | B21: ='Original Cross Section - 1st WL'!B20 -> 0.449 | C21: =IF(($B$5-$B21)>0,($B$5-$B21),0) -> 1.651 | D21: ='Original Cross Section - 1st WL'!D20
A22: ='Original Cross Section - 1st WL'!A21 -> 16.6 | B22: ='Original Cross Section - 1st WL'!B21 -> 0.395 | C22: =IF(($B$5-$B22)>0,($B$5-$B22),0) -> 1.705 | D22: ='Original Cross Section - 1st WL'!D21
... A35: ='Original Cross Section - 1st WL'!A34 -> 33.5 | B35: ='Original Cross Section - 1st WL'!B34 -> 1.68 | C35: =IF(($B$5-$B35)>0,($B$5-$B35),0) -> 0.42 | D35: ='Original Cross Section - 1st WL'!D34 -> Original Cross Section Waters Edge RB
A36: ='Original Cross Section - 1st WL'!A35 -> 34.5 | B36: ='Original Cross Section - 1st WL'!B35 -> 2.1 | C36: =IF(($B$5-$B36)>0,($B$5-$B36),0) -> 0
A37: ='Original Cross Section - 1st WL'!A36 -> 35.5 | B37: ='Original Cross Section - 1st WL'!B36 -> 2.4 | C37: =IF(($B$5-$B37)>0,($B$5-$B37),0) -> 0 | D37: ='Original Cross Section - 1st WL'!D36 -> Last Measurement Is At Right Bank Reference Peg (y_PRB)
A38: ='Original Cross Section - 1st WL'!A37 -> 35.5 | B38: ='Original Cross Section - 1st WL'!B37 -> 2.4 | C38: =IF(($B$5-$B38)>0,($B$5-$B38),0) -> 0 | D38: ='Original Cross Section - 1st WL'!D37 -> Copy last point of cross section to fill available cells
A39: ='Original Cross Section - 1st WL'!A38 -> 35.5 | B39: ='Original Cross Section - 1st WL'!B38 -> 2.4 | C39: =IF(($B$5-$B39)>0,($B$5-$B39),0) -> 0 | D39: ='Original Cross Section - 1st WL'!D38 -> Copy last point of cross section to fill available cells
A40: ='Original Cross Section - 1st WL'!A39 -> 35.5 | B40: ='Original Cross Section - 1st WL'!B39 -> 2.4 | C40: =IF(($B$5-$B40)>0,($B$5-$B40),0) -> 0 | D40: ='Original Cross Section - 1st WL'!D39 -> Copy last point of cross section to fill available cells
A41: ='Original Cross Section - 1st WL'!A40 -> 35.5 | B41: ='Original Cross Section - 1st WL'!B40 -> 2.4 | C41: =IF(($B$5-$B41)>0,($B$5-$B41),0) -> 0 | D41: ='Original Cross Section - 1st WL'!D40 -> Copy last point of cross section to fill available cells
A42: ='Original Cross Section - 1st WL'!A41 -> 35.5 | B42: ='Original Cross Section - 1st WL'!B41 -> 2.4 | C42: =IF(($B$5-$B42)>0,($B$5-$B42),0) -> 0 | D42: ='Original Cross Section - 1st WL'!D41 -> Copy last point of cross section to fill available cells
A43: ='Original Cross Section - 1st WL'!A42 -> 35.5 | B43: ='Original Cross Section - 1st WL'!B42 -> 2.4 | C43: =IF(($B$5-$B43)>0,($B$5-$B43),0) -> 0 | D43: ='Original Cross Section - 1st WL'!D42 -> Copy last point of cross section to fill available cells
A44: ='Original Cross Section - 1st WL'!A43 -> 35.5 | B44: ='Original Cross Section - 1st WL'!B43 -> 2.4 | C44: =IF(($B$5-$B44)>0,($B$5-$B44),0) -> 0 | D44: ='Original Cross Section - 1st WL'!D43 -> Copy last point of cross section to fill available cells
A45: ='Original Cross Section - 1st WL'!A44 -> 35.5 | B45: ='Original Cross Section - 1st WL'!B44 -> 2.4 | C45: =IF(($B$5-$B45)>0,($B$5-$B45),0) -> 0 | D45: ='Original Cross Section - 1st WL'!D44 -> Copy last point of cross section to fill available cells
A46: ='Original Cross Section - 1st WL'!A45 -> 35.5 | B46: ='Original Cross Section - 1st WL'!B45 -> 2.4 | C46: =IF(($B$5-$B46)>0,($B$5-$B46),0) -> 0 | D46: ='Original Cross Section - 1st WL'!D45 -> Copy last point of cross section to fill available cells
A47: ='Original Cross Section - 1st WL'!A46 -> 35.5 | B47: ='Original Cross Section - 1st WL'!B46 -> 2.4 | C47: =IF(($B$5-$B47)>0,($B$5-$B47),0) -> 0 | D47: ='Original Cross Section - 1st WL'!D46 -> Copy last point of cross section to fill available cells
A48: ='Original Cross Section - 1st WL'!A47 -> 35.5 | B48: ='Original Cross Section - 1st WL'!B47 -> 2.4 | C48: =IF(($B$5-$B48)>0,($B$5-$B48),0) -> 0 | D48: ='Original Cross Section - 1st WL'!D47 -> Copy last point of cross section to fill available cells
... A57: ='Original Cross Section - 1st WL'!A56 -> 35.5 | B57: ='Original Cross Section - 1st WL'!B56 -> 2.4 | C57: =IF(($B$5-$B57)>0,($B$5-$B57),0) -> 0 | D57: ='Original Cross Section - 1st WL'!D56 -> Copy last point of cross section to fill available cells
A58: TRUE RIGHT BANK | B58: TRUE RIGHT BANK | C58: TRUE RIGHT BANK
A60: Notes:
A61: Password to unlock the workbook is: UNLOCK
A62: Please copy and rename the workbook before unlocking it and editing.
A63: In the plot below, dry points on the channel banks (i.e. above the water surface level) are assigned zero depth as there is no flow there.
A64: This plot shows the cross section at the new water level, which will be used in the 'Velocity and Discharge' calculations.
